BEGIN:VCALENDAR
VERSION:2.0
PRODID:-//UST Education - ECPv6.15.20//NONSGML v1.0//EN
CALSCALE:GREGORIAN
METHOD:PUBLISH
X-ORIGINAL-URL:https://usteducation.org
X-WR-CALDESC:Events for UST Education
REFRESH-INTERVAL;VALUE=DURATION:PT1H
X-Robots-Tag:noindex
X-PUBLISHED-TTL:PT1H
BEGIN:VTIMEZONE
TZID:America/New_York
BEGIN:DAYLIGHT
TZOFFSETFROM:-0500
TZOFFSETTO:-0400
TZNAME:EDT
DTSTART:20210314T070000
END:DAYLIGHT
BEGIN:STANDARD
TZOFFSETFROM:-0400
TZOFFSETTO:-0500
TZNAME:EST
DTSTART:20211107T060000
END:STANDARD
BEGIN:DAYLIGHT
TZOFFSETFROM:-0500
TZOFFSETTO:-0400
TZNAME:EDT
DTSTART:20220313T070000
END:DAYLIGHT
BEGIN:STANDARD
TZOFFSETFROM:-0400
TZOFFSETTO:-0500
TZNAME:EST
DTSTART:20221106T060000
END:STANDARD
BEGIN:DAYLIGHT
TZOFFSETFROM:-0500
TZOFFSETTO:-0400
TZNAME:EDT
DTSTART:20230312T070000
END:DAYLIGHT
BEGIN:STANDARD
TZOFFSETFROM:-0400
TZOFFSETTO:-0500
TZNAME:EST
DTSTART:20231105T060000
END:STANDARD
END:VTIMEZONE
BEGIN:VEVENT
DTSTART;TZID=America/New_York:20220706T110000
DTEND;TZID=America/New_York:20220706T123000
DTSTAMP:20260425T131103
CREATED:20220526T121028Z
LAST-MODIFIED:20240531T211550Z
UID:10000107-1657105200-1657110600@usteducation.org
SUMMARY:B131: Understanding the Payments Ecosystem in Your Organization
DESCRIPTION:Understanding the Payments Ecosystem and the flow of money / UST Education is a crash course in 5 easy modules that educates participants on what you need to know and why (credit card processing and ACH). \n\n\n\n\nLEARNING OBJECTIVES\n\n\nWho are the players (a basic flowchart):\nHow integrations work with your software platforms\nUnveiling the confusion of your credit card statement\nHow you can reduce your cost/fees\nMinimizing your risk and PCI compliance
URL:https://usteducation.org/event/b131-understanding-the-payments-ecosystem-in-your-organization/
LOCATION:Group Internet-Based
CATEGORIES:Finance,Payments/PCI Compliance
ATTACH;FMTTYPE=image/png:https://usteducation.org/wp-content/uploads/2022/05/B131.png
ORGANIZER;CN="Wade Tetsuka%2C CPA":MAILTO:wadetetsuka@ustranscorp.com
END:VEVENT
END:VCALENDAR