BEGIN:VCALENDAR
VERSION:2.0
PRODID:-//UST Education - ECPv6.15.20//NONSGML v1.0//EN
CALSCALE:GREGORIAN
METHOD:PUBLISH
X-ORIGINAL-URL:https://usteducation.org
X-WR-CALDESC:Events for UST Education
REFRESH-INTERVAL;VALUE=DURATION:PT1H
X-Robots-Tag:noindex
X-PUBLISHED-TTL:PT1H
BEGIN:VTIMEZONE
TZID:America/New_York
BEGIN:DAYLIGHT
TZOFFSETFROM:-0500
TZOFFSETTO:-0400
TZNAME:EDT
DTSTART:20210314T070000
END:DAYLIGHT
BEGIN:STANDARD
TZOFFSETFROM:-0400
TZOFFSETTO:-0500
TZNAME:EST
DTSTART:20211107T060000
END:STANDARD
BEGIN:DAYLIGHT
TZOFFSETFROM:-0500
TZOFFSETTO:-0400
TZNAME:EDT
DTSTART:20220313T070000
END:DAYLIGHT
BEGIN:STANDARD
TZOFFSETFROM:-0400
TZOFFSETTO:-0500
TZNAME:EST
DTSTART:20221106T060000
END:STANDARD
BEGIN:DAYLIGHT
TZOFFSETFROM:-0500
TZOFFSETTO:-0400
TZNAME:EDT
DTSTART:20230312T070000
END:DAYLIGHT
BEGIN:STANDARD
TZOFFSETFROM:-0400
TZOFFSETTO:-0500
TZNAME:EST
DTSTART:20231105T060000
END:STANDARD
END:VTIMEZONE
BEGIN:VEVENT
DTSTART;TZID=America/New_York:20220811T130000
DTEND;TZID=America/New_York:20220811T143000
DTSTAMP:20260425T110753
CREATED:20220803T175453Z
LAST-MODIFIED:20220831T194746Z
UID:10000123-1660222800-1660228200@usteducation.org
SUMMARY:W300: Easy Steps for a DIY Tech Assessment
DESCRIPTION:A technology assessment is a tool to ensure your technology tools and investment is aligned with your organizational strategy. While associations can certainly benefit from a professional\, outside perspective\, there are do-it-yourself (DIY) steps that generate immediate insights and lead to long-term effectiveness. Get the right people with the necessary skills and training together with efficient processes and capable technology\, and the outcome will be an industry-leading association. \n\n\n\n\nLEARNING OBJECTIVES\n\n\nGain insights on aligning your strategic plan with your people\, processes\, and technology\nIdentify inefficient technology use and ways to improve\n\nMotivate organizational change through staff buy-in\nLearn about best practices and current trends in association technology management
URL:https://usteducation.org/event/easy-steps-for-a-diy-tech-assessment/
LOCATION:https://us02web.zoom.us/j/2172193952?pwd=NzJ0bXh2d29FL211dkl5QXJQNG5Ndz09
ATTACH;FMTTYPE=image/jpeg:https://usteducation.org/wp-content/uploads/2022/08/June-8-Aug-31-Eli-websiteemail-Graphics-1200X600-px.jpg
END:VEVENT
END:VCALENDAR