BEGIN:VCALENDAR
VERSION:2.0
PRODID:-//UST Education - ECPv6.15.20//NONSGML v1.0//EN
CALSCALE:GREGORIAN
METHOD:PUBLISH
X-ORIGINAL-URL:https://usteducation.org
X-WR-CALDESC:Events for UST Education
REFRESH-INTERVAL;VALUE=DURATION:PT1H
X-Robots-Tag:noindex
X-PUBLISHED-TTL:PT1H
BEGIN:VTIMEZONE
TZID:America/New_York
BEGIN:DAYLIGHT
TZOFFSETFROM:-0500
TZOFFSETTO:-0400
TZNAME:EDT
DTSTART:20210314T070000
END:DAYLIGHT
BEGIN:STANDARD
TZOFFSETFROM:-0400
TZOFFSETTO:-0500
TZNAME:EST
DTSTART:20211107T060000
END:STANDARD
BEGIN:DAYLIGHT
TZOFFSETFROM:-0500
TZOFFSETTO:-0400
TZNAME:EDT
DTSTART:20220313T070000
END:DAYLIGHT
BEGIN:STANDARD
TZOFFSETFROM:-0400
TZOFFSETTO:-0500
TZNAME:EST
DTSTART:20221106T060000
END:STANDARD
BEGIN:DAYLIGHT
TZOFFSETFROM:-0500
TZOFFSETTO:-0400
TZNAME:EDT
DTSTART:20230312T070000
END:DAYLIGHT
BEGIN:STANDARD
TZOFFSETFROM:-0400
TZOFFSETTO:-0500
TZNAME:EST
DTSTART:20231105T060000
END:STANDARD
END:VTIMEZONE
BEGIN:VEVENT
DTSTART;TZID=America/New_York:20221108T110000
DTEND;TZID=America/New_York:20221108T120000
DTSTAMP:20260425T110747
CREATED:20220930T191448Z
LAST-MODIFIED:20221019T172908Z
UID:10000226-1667905200-1667908800@usteducation.org
SUMMARY:W328: Data Lakes: No Question is Dumb
DESCRIPTION:COURSE DESCRIPTION: \nNot an IT session\, a conversation about why the association world is buzzing about data lakes\, and giving you a safe space to ask questions\, such as why are associations using these tools? How can you plan for them if you have a beer budget and/or small staff? When is the best time to get started? Relax\, this easy-going non-techie session will help you understand the options and provide solid takeaways on what you can do right away spending only time and effort. \nTarget audience: Ideally suited for any association exec\, in any department\, who desires to improve decision-making by harnessing the sea of data that often goes unused. Great for business users including membership\, marketing\, finance\, professional development\, and events. \n  \nLEARNING OBJECTIVES: \n\nUnderstand the pros and cons of data lakes and data warehouses.\nUnderstand when data lakes are a good tool\, or not\, based on your association’s needs.\nLearn about data privacy and data stewardship.\nLearn what steps you can take to improve the current data situation.
URL:https://usteducation.org/event/w328-data-lakes-no-question-is-dumb/
LOCATION:https://zoom.us/j/95411236529
CATEGORIES:ASSOCIATIONS & NONPROFITS
ATTACH;FMTTYPE=image/png:https://usteducation.org/wp-content/uploads/2022/09/W328WS.png
END:VEVENT
BEGIN:VEVENT
DTSTART;TZID=America/New_York:20221108T130000
DTEND;TZID=America/New_York:20221108T140000
DTSTAMP:20260425T110747
CREATED:20221003T194456Z
LAST-MODIFIED:20221021T213959Z
UID:10000230-1667912400-1667916000@usteducation.org
SUMMARY:W356: Solving Managed IT & Security
DESCRIPTION:COURSE DESCRIPTION: \nWatching Uber’s former CISO face a felony conviction drives home just how much pressure is on companies to get IT & security right. Join ARG and a team of experts as we discuss the challenges facing companies and how to solve them. \n  \nLEARNING OBJECTIVES: \n\nExplore the context for work in a post-pandemic world.\nUnderstand the opportunity to accelerate your organization’s digital transformation journey. \nExamine the market drivers and how you can benefit.\nLearn how to identify where to best leverage internal and external resources.
URL:https://usteducation.org/event/w356-solving-managed-it-security/
LOCATION:https://zoom.us/j/97036482186
CATEGORIES:ASSOCIATIONS & NONPROFITS
ATTACH;FMTTYPE=image/png:https://usteducation.org/wp-content/uploads/2022/10/RECENT-websiteemail-Graphics-1200X600-px-1.png
END:VEVENT
BEGIN:VEVENT
DTSTART;TZID=America/New_York:20221108T150000
DTEND;TZID=America/New_York:20221108T160000
DTSTAMP:20260425T110747
CREATED:20220804T163932Z
LAST-MODIFIED:20221018T184909Z
UID:10000144-1667919600-1667923200@usteducation.org
SUMMARY:B130: PCI Workshop
DESCRIPTION:In this course you will learn best practices of  organizations in implementing PCI Compliance.  The course starts with a basic overview of what PCI Compliance is and what it is designed to achieve.  Next we review 9 practical tips that you can implement immediately in your organization to ensure a more secure payment environment.  Finally we review the Self-Assessment-Questionnaire (SAQ)\, and what you should know about it. \n\n\n\n\nLEARNING OBJECTIVES\n \n\n\nGain an overview of the PCI Compliance Requirements\nLearn 9 practical tips to achieve a more secure payment environment\nUnderstand what are the annual SAQ requirements
URL:https://usteducation.org/event/b130-pci-workshop/
LOCATION:https://zoom.us/j/97645843867
CATEGORIES:ASSOCIATIONS & NONPROFITS,B2B/B2G
ATTACH;FMTTYPE=image/png:https://usteducation.org/wp-content/uploads/2022/08/126.png
END:VEVENT
END:VCALENDAR