BEGIN:VCALENDAR
VERSION:2.0
PRODID:-//UST Education - ECPv6.15.20//NONSGML v1.0//EN
CALSCALE:GREGORIAN
METHOD:PUBLISH
X-ORIGINAL-URL:https://usteducation.org
X-WR-CALDESC:Events for UST Education
REFRESH-INTERVAL;VALUE=DURATION:PT1H
X-Robots-Tag:noindex
X-PUBLISHED-TTL:PT1H
BEGIN:VTIMEZONE
TZID:America/New_York
BEGIN:DAYLIGHT
TZOFFSETFROM:-0500
TZOFFSETTO:-0400
TZNAME:EDT
DTSTART:20210314T070000
END:DAYLIGHT
BEGIN:STANDARD
TZOFFSETFROM:-0400
TZOFFSETTO:-0500
TZNAME:EST
DTSTART:20211107T060000
END:STANDARD
BEGIN:DAYLIGHT
TZOFFSETFROM:-0500
TZOFFSETTO:-0400
TZNAME:EDT
DTSTART:20220313T070000
END:DAYLIGHT
BEGIN:STANDARD
TZOFFSETFROM:-0400
TZOFFSETTO:-0500
TZNAME:EST
DTSTART:20221106T060000
END:STANDARD
BEGIN:DAYLIGHT
TZOFFSETFROM:-0500
TZOFFSETTO:-0400
TZNAME:EDT
DTSTART:20230312T070000
END:DAYLIGHT
BEGIN:STANDARD
TZOFFSETFROM:-0400
TZOFFSETTO:-0500
TZNAME:EST
DTSTART:20231105T060000
END:STANDARD
END:VTIMEZONE
BEGIN:VEVENT
DTSTART;TZID=America/New_York:20221115T130000
DTEND;TZID=America/New_York:20221115T140000
DTSTAMP:20260425T131102
CREATED:20220824T235943Z
LAST-MODIFIED:20221021T211206Z
UID:10000164-1668517200-1668520800@usteducation.org
SUMMARY:W314: Code of Ethics - An Association’s North Star
DESCRIPTION:COURSE DESCRIPTION: \nA Code of Ethics articulates the values of your organization and expresses the ideal standards of ethical behavior expected of those we work with and for. As such\, a well defined and articulated Code of Ethics can serve as both a governance tool and a strategic management tool. Join us for an engaging discussion on how a Code of Ethics can enhance your organization and help you to become a more effective leader\, while gaining one CAE Ethics credit.  \n  \nLEARNING OBJECTIVES: \n\nLearn key ethical principles and guidance on the expected standards of behavior\nLearn the basics of an Ethical Decision Making framework and ethical considerations\nLearn real world applications through case study discussions
URL:https://usteducation.org/event/w314-code-of-ethics-an-associations-north-star/
LOCATION:https://zoom.us/j/96556398493
CATEGORIES:ASSOCIATIONS & NONPROFITS
ATTACH;FMTTYPE=image/png:https://usteducation.org/wp-content/uploads/2022/08/RECENT-websiteemail-Graphics-1200X600-px-11.png
ORGANIZER;CN="Linn Wheeling%2C MBA%2C CAE":MAILTO:engagement@naturopathic.org
END:VEVENT
END:VCALENDAR