BEGIN:VCALENDAR
VERSION:2.0
PRODID:-//UST Education - ECPv6.15.20//NONSGML v1.0//EN
CALSCALE:GREGORIAN
METHOD:PUBLISH
X-ORIGINAL-URL:https://usteducation.org
X-WR-CALDESC:Events for UST Education
REFRESH-INTERVAL;VALUE=DURATION:PT1H
X-Robots-Tag:noindex
X-PUBLISHED-TTL:PT1H
BEGIN:VTIMEZONE
TZID:America/New_York
BEGIN:DAYLIGHT
TZOFFSETFROM:-0500
TZOFFSETTO:-0400
TZNAME:EDT
DTSTART:20220313T070000
END:DAYLIGHT
BEGIN:STANDARD
TZOFFSETFROM:-0400
TZOFFSETTO:-0500
TZNAME:EST
DTSTART:20221106T060000
END:STANDARD
BEGIN:DAYLIGHT
TZOFFSETFROM:-0500
TZOFFSETTO:-0400
TZNAME:EDT
DTSTART:20230312T070000
END:DAYLIGHT
BEGIN:STANDARD
TZOFFSETFROM:-0400
TZOFFSETTO:-0500
TZNAME:EST
DTSTART:20231105T060000
END:STANDARD
BEGIN:DAYLIGHT
TZOFFSETFROM:-0500
TZOFFSETTO:-0400
TZNAME:EDT
DTSTART:20240310T070000
END:DAYLIGHT
BEGIN:STANDARD
TZOFFSETFROM:-0400
TZOFFSETTO:-0500
TZNAME:EST
DTSTART:20241103T060000
END:STANDARD
END:VTIMEZONE
BEGIN:VEVENT
DTSTART;TZID=America/New_York:20230112T110000
DTEND;TZID=America/New_York:20230112T120000
DTSTAMP:20260425T065548
CREATED:20220804T165510Z
LAST-MODIFIED:20230526T151749Z
UID:10000149-1673521200-1673524800@usteducation.org
SUMMARY:W297: Understanding The Difference Between Lead And Demand Generation
DESCRIPTION:COURSE DESCRIPTION: \nThere’s a tendency to use lead gen and demand gen interchangeably\, yet they are unique tactics that stand on their own when it comes to the buyers journey. \nJoin us as we break down the differences between both processes\, and the strategy and technology that fuels both efforts and learn how to identify what association need to focus on. \n  \nLEARNING OBJECTIVES: \n\nLearn how to understand the differences between lead gen and demand gen\nLearn how to identify what tactics can be used to drive both types of campaigns\nLearn how to understand the type of technology and data needed to deliver each type of campaign\n\n 
URL:https://usteducation.org/event/w297-understanding-the-difference-between-lead-and-demand-generation/
LOCATION:https://zoom.us/j/96154443823
CATEGORIES:ASSOCIATIONS & NONPROFITS
ATTACH;FMTTYPE=image/png:https://usteducation.org/wp-content/uploads/2023/03/Maneesha-.png
END:VEVENT
BEGIN:VEVENT
DTSTART;TZID=America/New_York:20230112T130000
DTEND;TZID=America/New_York:20230112T140000
DTSTAMP:20260425T065548
CREATED:20221003T190746Z
LAST-MODIFIED:20230106T160129Z
UID:10000229-1673528400-1673532000@usteducation.org
SUMMARY:W358: Data Analytics Maturity Model: What’s Your Score & What’s Next?
DESCRIPTION:COURSE DESCRIPTION: \nAre data and analytics starting to sound like buzz words? How can associations truly put their data to work? Use a Data Analytics Maturity Model to help you understand your organization’s current state and learn concrete steps you can take to advance your organization’s path to more data-driven decision making. Identify how you compare to your peers in categories such as data culture\, architecture\, leadership\, process\, and more.  \n  \nLEARNING OBJECTIVES: \n\nLearn how to understand your organization’s current state and learn concrete steps you can take to advance your organization’s path to more data-driven decision making.\nLearn how associations truly put their data to work.\nLearn how you compare to your peers in categories such as data culture\, architecture\, leadership\, process\, and more. 
URL:https://usteducation.org/event/w358-data-analytics-maturity-model-whats-your-score-whats-next/
LOCATION:https://zoom.us/j/95373737158
CATEGORIES:ASSOCIATIONS & NONPROFITS
ATTACH;FMTTYPE=image/png:https://usteducation.org/wp-content/uploads/2022/10/Website-Graphics-December-June-2023-1.png
END:VEVENT
END:VCALENDAR