BEGIN:VCALENDAR
VERSION:2.0
PRODID:-//UST Education - ECPv6.15.20//NONSGML v1.0//EN
CALSCALE:GREGORIAN
METHOD:PUBLISH
X-WR-CALNAME:UST Education
X-ORIGINAL-URL:https://usteducation.org
X-WR-CALDESC:Events for UST Education
REFRESH-INTERVAL;VALUE=DURATION:PT1H
X-Robots-Tag:noindex
X-PUBLISHED-TTL:PT1H
BEGIN:VTIMEZONE
TZID:America/New_York
BEGIN:DAYLIGHT
TZOFFSETFROM:-0500
TZOFFSETTO:-0400
TZNAME:EDT
DTSTART:20220313T070000
END:DAYLIGHT
BEGIN:STANDARD
TZOFFSETFROM:-0400
TZOFFSETTO:-0500
TZNAME:EST
DTSTART:20221106T060000
END:STANDARD
BEGIN:DAYLIGHT
TZOFFSETFROM:-0500
TZOFFSETTO:-0400
TZNAME:EDT
DTSTART:20230312T070000
END:DAYLIGHT
BEGIN:STANDARD
TZOFFSETFROM:-0400
TZOFFSETTO:-0500
TZNAME:EST
DTSTART:20231105T060000
END:STANDARD
BEGIN:DAYLIGHT
TZOFFSETFROM:-0500
TZOFFSETTO:-0400
TZNAME:EDT
DTSTART:20240310T070000
END:DAYLIGHT
BEGIN:STANDARD
TZOFFSETFROM:-0400
TZOFFSETTO:-0500
TZNAME:EST
DTSTART:20241103T060000
END:STANDARD
END:VTIMEZONE
BEGIN:VEVENT
DTSTART;TZID=America/New_York:20230131T110000
DTEND;TZID=America/New_York:20230131T120000
DTSTAMP:20260423T110311
CREATED:20221013T220440Z
LAST-MODIFIED:20231013T171915Z
UID:10000240-1675162800-1675166400@usteducation.org
SUMMARY:Non Profit Value Proposition: Pricing Strategies to Consider
DESCRIPTION:COURSE DESCRIPTION: \nWe will discuss driving revenue and creating value utilizing in-house BD staff who have a “for profit” mentality within the non-profit space. \n  \nLEARNING OBJECTIVES: \n\nLearn why it’s important to have dedicated BD staff.\nLearn how you can create value that drives sales through BD .\nLearn tactics to create an environment that motivates sales staff.\nLearn how creating a culture where mission- and money-driven staff cohesively work together.
URL:https://usteducation.org/event/non-profit-value-proposition-pricing-strategies-to-consider/
LOCATION:https://zoom.us/j/98440157191
CATEGORIES:ASSOCIATIONS & NONPROFITS
ATTACH;FMTTYPE=image/png:https://usteducation.org/wp-content/uploads/2022/10/Website-Graphics-December-June-2023-1-2.png
ORGANIZER;CN="Dianne Vance%2C CAE":MAILTO:dvances@gmail.com
END:VEVENT
BEGIN:VEVENT
DTSTART;TZID=America/New_York:20230131T130000
DTEND;TZID=America/New_York:20230131T140000
DTSTAMP:20260423T110311
CREATED:20220915T121933Z
LAST-MODIFIED:20231013T172931Z
UID:10000200-1675170000-1675173600@usteducation.org
SUMMARY:How to Grow Association Membership | Expert Tips
DESCRIPTION:COURSE DESCRIPTION: \nMany associations were hit hard over the last few years\, and membership has declined. The best associations are flat or growing marginally. Learn how to grow and retain members better by understanding their needs one member at a time by utilizing the conversational engagement approach of ASK\, CAPTURE\, ACT. \n  \nLEARNING OBJECTIVES: \n\nLearn how to engage members at the individual level\nLearn how to acquire and retain members at a higher rate\nLearn how to match member needs with your member benefits
URL:https://usteducation.org/event/how-to-grow-association-membership-expert-tips/
LOCATION:https://zoom.us/j/98700400060
CATEGORIES:ASSOCIATIONS & NONPROFITS
ATTACH;FMTTYPE=image/png:https://usteducation.org/wp-content/uploads/2022/09/Website-Graphics-December-June-2023-2.png
ORGANIZER;CN="Dave Will":MAILTO:dave@propfuel.com
END:VEVENT
END:VCALENDAR