BEGIN:VCALENDAR
VERSION:2.0
PRODID:-//UST Education - ECPv6.15.20//NONSGML v1.0//EN
CALSCALE:GREGORIAN
METHOD:PUBLISH
X-WR-CALNAME:UST Education
X-ORIGINAL-URL:https://usteducation.org
X-WR-CALDESC:Events for UST Education
REFRESH-INTERVAL;VALUE=DURATION:PT1H
X-Robots-Tag:noindex
X-PUBLISHED-TTL:PT1H
BEGIN:VTIMEZONE
TZID:America/New_York
BEGIN:DAYLIGHT
TZOFFSETFROM:-0500
TZOFFSETTO:-0400
TZNAME:EDT
DTSTART:20250309T070000
END:DAYLIGHT
BEGIN:STANDARD
TZOFFSETFROM:-0400
TZOFFSETTO:-0500
TZNAME:EST
DTSTART:20251102T060000
END:STANDARD
BEGIN:DAYLIGHT
TZOFFSETFROM:-0500
TZOFFSETTO:-0400
TZNAME:EDT
DTSTART:20260308T070000
END:DAYLIGHT
BEGIN:STANDARD
TZOFFSETFROM:-0400
TZOFFSETTO:-0500
TZNAME:EST
DTSTART:20261101T060000
END:STANDARD
BEGIN:DAYLIGHT
TZOFFSETFROM:-0500
TZOFFSETTO:-0400
TZNAME:EDT
DTSTART:20270314T070000
END:DAYLIGHT
BEGIN:STANDARD
TZOFFSETFROM:-0400
TZOFFSETTO:-0500
TZNAME:EST
DTSTART:20271107T060000
END:STANDARD
END:VTIMEZONE
BEGIN:VEVENT
DTSTART;TZID=America/New_York:20260108T110000
DTEND;TZID=America/New_York:20260108T120000
DTSTAMP:20260419T131725
CREATED:20251016T152942Z
LAST-MODIFIED:20260109T134539Z
UID:10000811-1767870000-1767873600@usteducation.org
SUMMARY:Copilot vs. ChatGPT: The AI Rumble You Didn’t Know You Needed
DESCRIPTION:Course Description:  \nStep into the digital ring as we pit Microsoft Copilot against ChatGPT in the ultimate AI showdown. Who writes better emails? Who crushes code reviews? Who answers your questions without sending you down a rabbit hole of confusion? \nIn this fast-paced\, hilarious and slightly competitive session\, we’ll explore: \nWhat makes Copilot and ChatGPT actually different \nWhere each tool shines and where they miss the mark \nReal-world use cases that will change how you work \nLive demos\, laughs\, and maybe even a few mic drops \nWhether you’re in IT\, marketing\, operations\, or just AI curious\, you’ll walk away with practical tips for using both tools like a pro. \nLet’s get ready to rumble. \n  \nLearning Objectives: \nDifferentiate between Microsoft Copilot and ChatGPT in terms of functionality\, integration\, and user experience. \nEvaluate practical use cases to determine which AI tool best supports specific workflows in areas such as communication\, analysis\, and productivity. \nApply strategies and prompts to effectively leverage both Copilot and ChatGPT for improved efficiency and creativity in daily work. \n  \nTo Watch this Webinar on the Media Library CLICK HERE!
URL:https://usteducation.org/event/copilot-vs-chatgpt-the-ai-rumble-you-didnt-know-you-needed-free-cpe-credit-free-cae-credit/
LOCATION:zoom.us/j/99057006390
CATEGORIES:Association IT,ASSOCIATIONS & NONPROFITS,B2B/B2G,B2B/B2G IT,Business Strategy,Business Strategy,Business Strategy,Co-Pilot,Culture & Communication,Culture/Communication,Data Management,Data Management,MICROSOFT DYNAMICS,Workplace
ATTACH;FMTTYPE=image/png:https://usteducation.org/wp-content/uploads/2025/10/Jon25-2.png
ORGANIZER;CN="Jon Rivers":MAILTO:jon@marketeery.com
END:VEVENT
BEGIN:VEVENT
DTSTART;TZID=America/New_York:20260121T110000
DTEND;TZID=America/New_York:20260121T120000
DTSTAMP:20260419T131725
CREATED:20251024T175740Z
LAST-MODIFIED:20260121T212649Z
UID:10000817-1768993200-1768996800@usteducation.org
SUMMARY:Creating a Coaching Culture: The Strategic Advantage for Association Growth
DESCRIPTION:Course Description:  \n\nThis session explores the transformative power of personal coaching for association leaders and members. Gain a clear understanding of coaching\, as defined by the International Coaching Federation\, and its goal-oriented\, client-centered approach to development. Learn how coaching enhances key organizational outcomes\, including improved performance\, higher retention rates\, increased productivity\, and better communication. Discover how personalized coaching unlocks individual potential\, strengthens employee engagement\, and fosters a more collaborative work environment. By the end of the session\, you will understand how integrating coaching can drive lasting improvements in both individual and organizational success.\n \nLearning Objectives\nApply coaching strategies within teams to unlock individual potential\, enhance performance\, and support professional growth through goal setting\, feedback\, and personalized development plans. \nImplement coaching techniques to cultivate a supportive and engaging workplace culture that improves employee satisfaction\, motivation\, and retention. \nDemonstrate effective communication and conflict resolution using coaching principles such as active listening\, powerful questioning\, and constructive feedback to strengthen collaboration and team productivity. \n  \nTo Watch this Webinar on the Media Library CLICK HERE!
URL:https://usteducation.org/event/creating-a-coaching-culture-the-strategic-advantage-for-association-growth-free-cpe-credit-free-cae-credit/
LOCATION:zoom.us/j/94928532398
CATEGORIES:ASSOCIATIONS & NONPROFITS,B2B/B2G,Business Strategy,Business Strategy,Culture & Communication,Culture/Communication,Hiring/Retention/HR,Hiring/Retention/HR,Workplace,Workplace
ATTACH;FMTTYPE=image/png:https://usteducation.org/wp-content/uploads/2025/10/Lori25-1.png
ORGANIZER;CN="Lori Bruhns":MAILTO:lori@loribruhns.com
END:VEVENT
END:VCALENDAR