BEGIN:VCALENDAR
VERSION:2.0
PRODID:-//UST Education - ECPv6.15.20//NONSGML v1.0//EN
CALSCALE:GREGORIAN
METHOD:PUBLISH
X-ORIGINAL-URL:https://usteducation.org
X-WR-CALDESC:Events for UST Education
REFRESH-INTERVAL;VALUE=DURATION:PT1H
X-Robots-Tag:noindex
X-PUBLISHED-TTL:PT1H
BEGIN:VTIMEZONE
TZID:America/New_York
BEGIN:DAYLIGHT
TZOFFSETFROM:-0500
TZOFFSETTO:-0400
TZNAME:EDT
DTSTART:20240310T070000
END:DAYLIGHT
BEGIN:STANDARD
TZOFFSETFROM:-0400
TZOFFSETTO:-0500
TZNAME:EST
DTSTART:20241103T060000
END:STANDARD
BEGIN:DAYLIGHT
TZOFFSETFROM:-0500
TZOFFSETTO:-0400
TZNAME:EDT
DTSTART:20250309T070000
END:DAYLIGHT
BEGIN:STANDARD
TZOFFSETFROM:-0400
TZOFFSETTO:-0500
TZNAME:EST
DTSTART:20251102T060000
END:STANDARD
BEGIN:DAYLIGHT
TZOFFSETFROM:-0500
TZOFFSETTO:-0400
TZNAME:EDT
DTSTART:20260308T070000
END:DAYLIGHT
BEGIN:STANDARD
TZOFFSETFROM:-0400
TZOFFSETTO:-0500
TZNAME:EST
DTSTART:20261101T060000
END:STANDARD
END:VTIMEZONE
BEGIN:VEVENT
DTSTART;TZID=America/New_York:20250819T130000
DTEND;TZID=America/New_York:20250819T140000
DTSTAMP:20260420T012933
CREATED:20250718T145601Z
LAST-MODIFIED:20250819T220558Z
UID:10000746-1755608400-1755612000@usteducation.org
SUMMARY:Human-Centered Leadership: Leading with Heart\, Head\, and Humility
DESCRIPTION:Course Description:  \nOnly 31% of employees in the U.S. are engaged at work. That means nearly 7 out of 10 people are either quietly checking out\, or actively working against the mission. For purpose-driven organizations\, this is a leadership call to action. \nThe solution isn’t more perks or policy changes; it starts with leadership presence. With decades of experience guiding leaders through growth\, burnout\, and everything in between\, Anne Robie brings a radically human approach to leadership that’s grounded\, doable\, and built for real impact. \n  \nLearning Objectives: \nStay emotionally available and focused\, without burning out \nBuild trust in a way that fuels connection AND accountability \nLead with both vulnerability and vision to reignite engagement \n  \nTo Watch this Webinar on the Media Library CLICK HERE!
URL:https://usteducation.org/event/human-centered-leadership-leading-with-heart-head-and-humility/
LOCATION:zoom.us/j/97065802020
CATEGORIES:ASSOCIATIONS & NONPROFITS,Business Strategy,Culture/Communication
ATTACH;FMTTYPE=image/png:https://usteducation.org/wp-content/uploads/2025/07/Anne25-2.png
ORGANIZER;CN="Anne Robie":MAILTO:anne@darshanleadership.com
END:VEVENT
END:VCALENDAR