BEGIN:VCALENDAR
VERSION:2.0
PRODID:-//UST Education - ECPv6.15.20//NONSGML v1.0//EN
CALSCALE:GREGORIAN
METHOD:PUBLISH
X-ORIGINAL-URL:https://usteducation.org
X-WR-CALDESC:Events for UST Education
REFRESH-INTERVAL;VALUE=DURATION:PT1H
X-Robots-Tag:noindex
X-PUBLISHED-TTL:PT1H
BEGIN:VTIMEZONE
TZID:America/New_York
BEGIN:DAYLIGHT
TZOFFSETFROM:-0500
TZOFFSETTO:-0400
TZNAME:EDT
DTSTART:20240310T070000
END:DAYLIGHT
BEGIN:STANDARD
TZOFFSETFROM:-0400
TZOFFSETTO:-0500
TZNAME:EST
DTSTART:20241103T060000
END:STANDARD
BEGIN:DAYLIGHT
TZOFFSETFROM:-0500
TZOFFSETTO:-0400
TZNAME:EDT
DTSTART:20250309T070000
END:DAYLIGHT
BEGIN:STANDARD
TZOFFSETFROM:-0400
TZOFFSETTO:-0500
TZNAME:EST
DTSTART:20251102T060000
END:STANDARD
BEGIN:DAYLIGHT
TZOFFSETFROM:-0500
TZOFFSETTO:-0400
TZNAME:EDT
DTSTART:20260308T070000
END:DAYLIGHT
BEGIN:STANDARD
TZOFFSETFROM:-0400
TZOFFSETTO:-0500
TZNAME:EST
DTSTART:20261101T060000
END:STANDARD
END:VTIMEZONE
BEGIN:VEVENT
DTSTART;TZID=America/New_York:20250910T110000
DTEND;TZID=America/New_York:20250910T120000
DTSTAMP:20260419T234524
CREATED:20250815T184649Z
LAST-MODIFIED:20250912T133839Z
UID:10000771-1757502000-1757505600@usteducation.org
SUMMARY:Retrospectives - How to Continuously Improve Your Team
DESCRIPTION:Course Description:  \nTired of retrospectives that feel repetitive or unproductive? In this lively and interactive session\, we’ll reframe retrospectives as a powerful tool for both celebration and improvement. Learn how to highlight and maximize what your team already does well\, while also tackling issues\, avoiding common mistakes\, and fostering real change. We’ll explore a range of engaging retrospective techniques\, discuss how to choose the right one for your team’s needs\, and give you practical tips to keep your retros fresh\, valuable\, and energizing. \n  \nLearning Objectives: \nApply retrospectives to celebrate successes and maximize what your team does well \nSelect retrospective methods to address challenges\, avoid common mistakes\, and strengthen team performance \nEvaluate and select a variety of retrospective techniques and understand how to apply them effectively \n  \nTo Watch this Webinar on the Media Library CLICK HERE! \n \n 
URL:https://usteducation.org/event/retrospectives-how-to-continuously-improve-your-team/
LOCATION:zoom.us/j/96943046182
CATEGORIES:ASSOCIATIONS & NONPROFITS,B2B/B2G,Business Strategy,Business Strategy,Culture & Communication,Culture/Communication
ATTACH;FMTTYPE=image/png:https://usteducation.org/wp-content/uploads/2025/08/Richard25-1.png
END:VEVENT
END:VCALENDAR