BEGIN:VCALENDAR
VERSION:2.0
PRODID:-//UST Education - ECPv6.15.20//NONSGML v1.0//EN
CALSCALE:GREGORIAN
METHOD:PUBLISH
X-ORIGINAL-URL:https://usteducation.org
X-WR-CALDESC:Events for UST Education
REFRESH-INTERVAL;VALUE=DURATION:PT1H
X-Robots-Tag:noindex
X-PUBLISHED-TTL:PT1H
BEGIN:VTIMEZONE
TZID:America/New_York
BEGIN:DAYLIGHT
TZOFFSETFROM:-0500
TZOFFSETTO:-0400
TZNAME:EDT
DTSTART:20240310T070000
END:DAYLIGHT
BEGIN:STANDARD
TZOFFSETFROM:-0400
TZOFFSETTO:-0500
TZNAME:EST
DTSTART:20241103T060000
END:STANDARD
BEGIN:DAYLIGHT
TZOFFSETFROM:-0500
TZOFFSETTO:-0400
TZNAME:EDT
DTSTART:20250309T070000
END:DAYLIGHT
BEGIN:STANDARD
TZOFFSETFROM:-0400
TZOFFSETTO:-0500
TZNAME:EST
DTSTART:20251102T060000
END:STANDARD
BEGIN:DAYLIGHT
TZOFFSETFROM:-0500
TZOFFSETTO:-0400
TZNAME:EDT
DTSTART:20260308T070000
END:DAYLIGHT
BEGIN:STANDARD
TZOFFSETFROM:-0400
TZOFFSETTO:-0500
TZNAME:EST
DTSTART:20261101T060000
END:STANDARD
END:VTIMEZONE
BEGIN:VEVENT
DTSTART;TZID=America/New_York:20250916T110000
DTEND;TZID=America/New_York:20250916T120000
DTSTAMP:20260419T234522
CREATED:20250701T201800Z
LAST-MODIFIED:20250916T215036Z
UID:10000733-1758020400-1758024000@usteducation.org
SUMMARY:Navigating What’s Next: Preparing Associations for the Future of Change Management
DESCRIPTION:Course Description:  \nAs the association and nonprofit sectors continue to evolve\, organizations must be prepared to manage change not as an occasional event\, but as an ongoing\, strategic capability. Shifts in member expectations\, advances in technology\, workforce dynamics\, and external pressures are redefining how associations must approach transformation. Change management is no longer a reactive process — it is a proactive\, organization-wide discipline that will determine the future success of mission-driven organizations. \nJoin Daniel Elacqua and Christopher Maynard from Strategico Consultants for an engaging and forward-thinking discussion on the path ahead for associations. Together\, they will examine emerging trends influencing change management\, share insights into building resilient\, adaptable organizations\, and discuss how leadership\, culture\, and governance must evolve to support sustainable change. \n  \nLearning Objectives: \nDescribe the shifting dynamics that are making change management a strategic priority for associations and nonprofits. \nRecognize the core elements of a “change-ready” organizational culture. \nIdentify common pitfalls organizations face during change initiatives and discuss approaches to avoid them. \nExplore ways leadership and governance structures can better support sustainable change. \nGain awareness of practical tools and tactics that can support communication and engagement during change efforts. \n  \nTo Watch this Webinar on the Media Library CLICK HERE!
URL:https://usteducation.org/event/navigating-whats-next-preparing-associations-for-the-future-of-change-management/
LOCATION:zoom.us/j/94076393036
CATEGORIES:ASSOCIATIONS & NONPROFITS,Business Strategy,Culture/Communication
ATTACH;FMTTYPE=image/png:https://usteducation.org/wp-content/uploads/2025/07/DanielChris25.png
ORGANIZER;CN="Daniel Elacqua":MAILTO:daniel@strategico-consultants.com
END:VEVENT
END:VCALENDAR