BEGIN:VCALENDAR
VERSION:2.0
PRODID:-//UST Education - ECPv6.15.20//NONSGML v1.0//EN
CALSCALE:GREGORIAN
METHOD:PUBLISH
X-WR-CALNAME:UST Education
X-ORIGINAL-URL:https://usteducation.org
X-WR-CALDESC:Events for UST Education
REFRESH-INTERVAL;VALUE=DURATION:PT1H
X-Robots-Tag:noindex
X-PUBLISHED-TTL:PT1H
BEGIN:VTIMEZONE
TZID:America/New_York
BEGIN:DAYLIGHT
TZOFFSETFROM:-0500
TZOFFSETTO:-0400
TZNAME:EDT
DTSTART:20250309T070000
END:DAYLIGHT
BEGIN:STANDARD
TZOFFSETFROM:-0400
TZOFFSETTO:-0500
TZNAME:EST
DTSTART:20251102T060000
END:STANDARD
BEGIN:DAYLIGHT
TZOFFSETFROM:-0500
TZOFFSETTO:-0400
TZNAME:EDT
DTSTART:20260308T070000
END:DAYLIGHT
BEGIN:STANDARD
TZOFFSETFROM:-0400
TZOFFSETTO:-0500
TZNAME:EST
DTSTART:20261101T060000
END:STANDARD
BEGIN:DAYLIGHT
TZOFFSETFROM:-0500
TZOFFSETTO:-0400
TZNAME:EDT
DTSTART:20270314T070000
END:DAYLIGHT
BEGIN:STANDARD
TZOFFSETFROM:-0400
TZOFFSETTO:-0500
TZNAME:EST
DTSTART:20271107T060000
END:STANDARD
END:VTIMEZONE
BEGIN:VEVENT
DTSTART;TZID=America/New_York:20260225T110000
DTEND;TZID=America/New_York:20260225T120000
DTSTAMP:20260419T165322
CREATED:20260206T193135Z
LAST-MODIFIED:20260226T120321Z
UID:10000867-1772017200-1772020800@usteducation.org
SUMMARY:Is the Data in the Room With Us? Channeling Association Data Into One Place
DESCRIPTION:Course Description:  \nAssociation teams collect valuable data across events\, membership\, marketing\, and finance\, yet that information often lives in separate systems and departments. When data is fragmented\, organizations struggle to demonstrate impact\, respond to leadership questions\, and make informed decisions. \nIn Is the Data in the Room with Us? Channeling Association Data into One Place\, participants will explore why data silos exist in associations and how bringing data together without replacing existing systems can improve clarity\, collaboration\, and insight. This practical\, non-technical session focuses on aligning people and processes first\, helping teams create a shared view of their data and turn disconnected information into actionable analytics. \n  \nLearning Objectives: \nIdentify where data silos commonly exist within associations and understand how they limit reporting\, decision-making\, and efficiency. \nApply a practical framework for channeling data into one shared view\, focusing on alignment and process rather than replacing systems. \nImplement strategies to reduce manual work and duplicate effort by improving how data is collected\, shared\, and used across departments. \nApply connected data to answer leadership questions with confidence\, supporting clearer insights around events\, engagement\, and organizational impact. \n  \nTo Watch this Webinar on the Media Library CLICK HERE!
URL:https://usteducation.org/event/is-the-data-in-the-room-with-us-channeling-association-data-into-one-place-free-cpe-credit-free-cae-credit/
LOCATION:zoom.us/j/94036804588
CATEGORIES:Association IT,ASSOCIATIONS & NONPROFITS,Business Strategy,Culture/Communication,Data Management
ATTACH;FMTTYPE=image/png:https://usteducation.org/wp-content/uploads/2026/02/Gil26.png
ORGANIZER;CN="Gil Gonzalez":MAILTO:gil@evareg.com
END:VEVENT
END:VCALENDAR