BEGIN:VCALENDAR
VERSION:2.0
PRODID:-//UST Education - ECPv6.15.20//NONSGML v1.0//EN
CALSCALE:GREGORIAN
METHOD:PUBLISH
X-ORIGINAL-URL:https://usteducation.org
X-WR-CALDESC:Events for UST Education
REFRESH-INTERVAL;VALUE=DURATION:PT1H
X-Robots-Tag:noindex
X-PUBLISHED-TTL:PT1H
BEGIN:VTIMEZONE
TZID:America/New_York
BEGIN:DAYLIGHT
TZOFFSETFROM:-0500
TZOFFSETTO:-0400
TZNAME:EDT
DTSTART:20250309T070000
END:DAYLIGHT
BEGIN:STANDARD
TZOFFSETFROM:-0400
TZOFFSETTO:-0500
TZNAME:EST
DTSTART:20251102T060000
END:STANDARD
BEGIN:DAYLIGHT
TZOFFSETFROM:-0500
TZOFFSETTO:-0400
TZNAME:EDT
DTSTART:20260308T070000
END:DAYLIGHT
BEGIN:STANDARD
TZOFFSETFROM:-0400
TZOFFSETTO:-0500
TZNAME:EST
DTSTART:20261101T060000
END:STANDARD
BEGIN:DAYLIGHT
TZOFFSETFROM:-0500
TZOFFSETTO:-0400
TZNAME:EDT
DTSTART:20270314T070000
END:DAYLIGHT
BEGIN:STANDARD
TZOFFSETFROM:-0400
TZOFFSETTO:-0500
TZNAME:EST
DTSTART:20271107T060000
END:STANDARD
END:VTIMEZONE
BEGIN:VEVENT
DTSTART;TZID=America/New_York:20260107T110000
DTEND;TZID=America/New_York:20260107T120000
DTSTAMP:20260419T231201
CREATED:20251031T115406Z
LAST-MODIFIED:20260108T121603Z
UID:10000823-1767783600-1767787200@usteducation.org
SUMMARY:Conquer the Close: Tactics to Overcome the Word ‘No’
DESCRIPTION:Course Description:  \nIn today’s competitive environment\, hearing “no” is inevitable — but how you respond defines your success. In Conquer the Close: Tactics to Overcome the Word “No\,” Justin Goldstein\, CAE\, shares a proven\, relationship-driven approach to turning rejection into opportunity. This session breaks down the psychology behind objections\, reveals how to reframe resistance into trust\, and teaches actionable strategies to move prospects from hesitation. \n  \nLearning Objectives: \nLeverage Storytelling and Empathy to Close Confidently: Use authentic connection and narrative framing to overcome objections without pressure or pushiness. \nReframe “No” as the Beginning\, Not the End: Learn how top performers transform rejection into the first step toward trust\, understanding\, and long-term partnership. \nTurn hesitation into trust\, objections into opportunities\, and prospects into partners. \n  \nTo Watch this Webinar on the Media Library CLICK HERE! \n \n 
URL:https://usteducation.org/event/conquer-the-close-tactics-to-overcome-the-word-no-free-cpe-credit-free-cae-credit/
LOCATION:zoom.us/j/98620263881
CATEGORIES:ASSOCIATIONS & NONPROFITS,B2B/B2G,Business Strategy,Business Strategy,Growth/Sales,Growth/Sales
ATTACH;FMTTYPE=image/png:https://usteducation.org/wp-content/uploads/2025/10/JustinDianne25-1.png
ORGANIZER;CN="Justin Goldstein%2C CAE":MAILTO:Justin.Goldstein18@gmail.com
END:VEVENT
BEGIN:VEVENT
DTSTART;TZID=America/New_York:20260107T130000
DTEND;TZID=America/New_York:20260107T140000
DTSTAMP:20260419T231201
CREATED:20251121T173342Z
LAST-MODIFIED:20260108T124709Z
UID:10000833-1767790800-1767794400@usteducation.org
SUMMARY:Using the Built-in CRM Functionality in Business Central
DESCRIPTION:This event is eligible for CPE Credit only~ \n  \nCourse Description:  \nMany companies implement Business Central without knowing there is CRM functionality within the product. This session will provide a brief overview of the setups and then dive into the functionality. Interactions allow you to track all correspondence with your prospects\, customers\, and vendors. Segments allow you to pinpoint your contacts for additional communications. Opportunities allow you to build your pipeline\, provide guidelines for managing the pipeline and view the progress of the opportunities in the pipeline. We will also discuss and demonstrate how this functionality is not just for the sales staff. Are you utilizing all this? Join this session to see how you can take advantage of the functionality you already own. \n  \nLearning Objectives: \nIdentify the core CRM features built into Business Central\, including Opportunity Management\, Interactions\, Segments\, and Campaigns. \nDemonstrate how to use Opportunity Management to track and evaluate pipeline progress for improved sales oversight. \nApply Interaction Tracking to document and retrieve communications across teams\, enhancing organizational visibility and coordination. \nUse Segments and Campaigns to target and execute communications and marketing efforts within Business Central. \n  \nTo Watch this Webinar on the Media Library CLICK HERE! \n 
URL:https://usteducation.org/event/using-the-built-in-crm-functionality-in-business-central-free-cpe-credit-free-cae-credit/
LOCATION:zoom.us/j/95906420944
CATEGORIES:B2B/B2G,B2B/B2G IT,Business Strategy,Business Strategy,Growth/Sales,Growth/Sales,MICROSOFT DYNAMICS
ATTACH;FMTTYPE=image/png:https://usteducation.org/wp-content/uploads/2025/11/Robb25.png
ORGANIZER;CN="Robb Delprado":MAILTO:rdelprado@llConsultingservices.com
END:VEVENT
END:VCALENDAR