BEGIN:VCALENDAR
VERSION:2.0
PRODID:-//UST Education - ECPv6.15.20//NONSGML v1.0//EN
CALSCALE:GREGORIAN
METHOD:PUBLISH
X-WR-CALNAME:UST Education
X-ORIGINAL-URL:https://usteducation.org
X-WR-CALDESC:Events for UST Education
REFRESH-INTERVAL;VALUE=DURATION:PT1H
X-Robots-Tag:noindex
X-PUBLISHED-TTL:PT1H
BEGIN:VTIMEZONE
TZID:America/New_York
BEGIN:DAYLIGHT
TZOFFSETFROM:-0500
TZOFFSETTO:-0400
TZNAME:EDT
DTSTART:20250309T070000
END:DAYLIGHT
BEGIN:STANDARD
TZOFFSETFROM:-0400
TZOFFSETTO:-0500
TZNAME:EST
DTSTART:20251102T060000
END:STANDARD
BEGIN:DAYLIGHT
TZOFFSETFROM:-0500
TZOFFSETTO:-0400
TZNAME:EDT
DTSTART:20260308T070000
END:DAYLIGHT
BEGIN:STANDARD
TZOFFSETFROM:-0400
TZOFFSETTO:-0500
TZNAME:EST
DTSTART:20261101T060000
END:STANDARD
BEGIN:DAYLIGHT
TZOFFSETFROM:-0500
TZOFFSETTO:-0400
TZNAME:EDT
DTSTART:20270314T070000
END:DAYLIGHT
BEGIN:STANDARD
TZOFFSETFROM:-0400
TZOFFSETTO:-0500
TZNAME:EST
DTSTART:20271107T060000
END:STANDARD
END:VTIMEZONE
BEGIN:VEVENT
DTSTART;TZID=America/New_York:20260603T130000
DTEND;TZID=America/New_York:20260603T140000
DTSTAMP:20260419T164058
CREATED:20251121T174554Z
LAST-MODIFIED:20260323T164020Z
UID:10000835-1780491600-1780495200@usteducation.org
SUMMARY:The AI Power Hour: 30 Tools in One Webinar
DESCRIPTION:Course Description:  \nJoin us for a dynamic session that dives into how marketers can harness the latest wave of AI innovation to boost creativity\, speed\, and impact. You’ll get a rapid tour of 30 cutting-edge tools spanning; language\, video\, image\, and audio generation. We’ll show how AI is streamlining content creation\, automating analytics\, and transforming everyday workflows. Whether you’re testing the waters or ready to scale your AI capabilities\, you’ll walk away energized and ready to put these technologies to work right away. \n  \nLearning Objectives: \nGet grounded in the current AI landscape: Explore where today’s generative AI tools fit within marketing and which emerging players are driving the next wave of innovation. \nUncover must-try tools: Discover 30 standout AI platforms designed to boost creativity\, streamline production\, and elevate campaign results. \nMaster AI-driven efficiency: Learn how to weave automation into your marketing stack to refine targeting\, scale analytics\, and personalize engagement. \nAnticipate the next evolution: Gain forward-looking insights into how generative AI and real-time optimization will reshape marketing strategies moving forward.
URL:https://usteducation.org/event/30-ai-tools-in-60-minutes-free-cpe-credit-free-cae-credit-2/
LOCATION:zoom.us/j/94050021104
CATEGORIES:ASSOCIATIONS & NONPROFITS,Marketing/Member Engagement
ATTACH;FMTTYPE=image/png:https://usteducation.org/wp-content/uploads/2025/11/Erica25-2.png
ORGANIZER;CN="Erica Salm Rench%2C MBA":MAILTO:erica@sidecar.ai
END:VEVENT
BEGIN:VEVENT
DTSTART;TZID=America/New_York:20260610T110000
DTEND;TZID=America/New_York:20260610T120000
DTSTAMP:20260419T164058
CREATED:20260116T160540Z
LAST-MODIFIED:20260313T155827Z
UID:10000862-1781089200-1781092800@usteducation.org
SUMMARY:Making Volunteer Selection Objective - Building Thoughtful Criteria
DESCRIPTION:Course Description:  \nVolunteers are an associations most engaged members. They regularly find the most value in their membership. Yet many associations obfuscate the process to becoming a volunteer\, either relying on who they know\, or creating a process that is difficult to navigate. This session will focus on how associations can better outline their process for volunteer selection to help engage more members\, providing more value to both members and the association. \n  \nLearning Objectives: \nUnderstand the value of creating volunteer selection criteria \nCreate potential evaluation criteria for volunteers \nDevelop criteria outlining both skills and competencies for volunteer roles. \nIdentify opportunities to remove subjective steps from their own selection process
URL:https://usteducation.org/event/making-volunteer-selection-objective-building-thoughtful-criteria-free-cpe-credit-free-cae-credit/
LOCATION:zoom.us/j/97734637107
CATEGORIES:ASSOCIATIONS & NONPROFITS,Business Strategy,Hiring/Retention/HR
ATTACH;FMTTYPE=image/png:https://usteducation.org/wp-content/uploads/2026/01/Justin26.png
ORGANIZER;CN="Justin Burniske%2C MBA":MAILTO:justin.burniske@meta-dao.com
END:VEVENT
BEGIN:VEVENT
DTSTART;TZID=America/New_York:20260624T110000
DTEND;TZID=America/New_York:20260624T120000
DTSTAMP:20260419T164058
CREATED:20260209T025822Z
LAST-MODIFIED:20260313T160028Z
UID:10000871-1782298800-1782302400@usteducation.org
SUMMARY:Communication Killers: Why Smart C-Suite Leaders Lose Their Jobs—And How Not to Be Next
DESCRIPTION:Course Description:  \nYou didn’t get to the top because you lack skills. But what takes down even the best association CEOs and C-suite leaders isn’t performance—it’s communication. Misread your board or misjudge your staff dynamics\, and your credibility can erode fast\, taking your reputation and role down with it. \nThis one-hour\, high-intensity webinar pulls back the curtain on the silent career derailers that sideline association executives. You’ll get a candid look at how subtle missteps in messaging\, tone\, or alignment can turn collaboration into confrontation\, and what you can do today to stop it. \nWalk away with a clearer sense of how your leadership voice is heard\, where it might be misfiring\, and how mastering this one skill may be the reason you keep your job… or start planning your next move. \n  \nLearning Objectives: \nDecode board and staff dynamics before they blow up your leadership credibility. \nAdapt your communication style to defuse conflict and build trust. \nSpot early warning signs that your leadership message isn’t landing—and fix it before it’s too late.
URL:https://usteducation.org/event/communication-killers-why-smart-c-suite-leaders-lose-their-jobs-and-how-not-to-be-next-free-cpe-credit-free-cae-credit/
LOCATION:zoom.us/j/94675406323
CATEGORIES:ASSOCIATIONS & NONPROFITS,Business Strategy,Culture/Communication
ATTACH;FMTTYPE=image/png:https://usteducation.org/wp-content/uploads/2026/02/Richard26.png
ORGANIZER;CN="Richard Yep":MAILTO:richard.yep@vettedsolutions.com
END:VEVENT
END:VCALENDAR