BEGIN:VCALENDAR
VERSION:2.0
PRODID:-//UST Education - ECPv6.15.20//NONSGML v1.0//EN
CALSCALE:GREGORIAN
METHOD:PUBLISH
X-ORIGINAL-URL:https://usteducation.org
X-WR-CALDESC:Events for UST Education
REFRESH-INTERVAL;VALUE=DURATION:PT1H
X-Robots-Tag:noindex
X-PUBLISHED-TTL:PT1H
BEGIN:VTIMEZONE
TZID:America/New_York
BEGIN:DAYLIGHT
TZOFFSETFROM:-0500
TZOFFSETTO:-0400
TZNAME:EDT
DTSTART:20210314T070000
END:DAYLIGHT
BEGIN:STANDARD
TZOFFSETFROM:-0400
TZOFFSETTO:-0500
TZNAME:EST
DTSTART:20211107T060000
END:STANDARD
BEGIN:DAYLIGHT
TZOFFSETFROM:-0500
TZOFFSETTO:-0400
TZNAME:EDT
DTSTART:20220313T070000
END:DAYLIGHT
BEGIN:STANDARD
TZOFFSETFROM:-0400
TZOFFSETTO:-0500
TZNAME:EST
DTSTART:20221106T060000
END:STANDARD
BEGIN:DAYLIGHT
TZOFFSETFROM:-0500
TZOFFSETTO:-0400
TZNAME:EDT
DTSTART:20230312T070000
END:DAYLIGHT
BEGIN:STANDARD
TZOFFSETFROM:-0400
TZOFFSETTO:-0500
TZNAME:EST
DTSTART:20231105T060000
END:STANDARD
END:VTIMEZONE
BEGIN:VEVENT
DTSTART;TZID=America/New_York:20221018T110000
DTEND;TZID=America/New_York:20221018T123000
DTSTAMP:20260425T120342
CREATED:20220804T164230Z
LAST-MODIFIED:20231013T163851Z
UID:10000145-1666090800-1666096200@usteducation.org
SUMMARY:Demistifying AI: Learn Insider Tips for Your Association
DESCRIPTION:Is the term “AI” daunting and elusive? Are you thinking about implementing AI but have no idea where to start? In this session\, we will demystify the idea of AI and talk about practical applications of AI technology that you can begin experimenting with at your association today. \n  \nLearning Objectives\n \n\n\n\n\nInexpensive AI tools you can begin using right now to optimize your association’s marketing and personalization strategy.\nHow to use AI to enhance your processes and make workflows less time consuming.\nHow to embark upon easy AI and automation experiments.
URL:https://usteducation.org/event/demistifying-ai-learn-insider-tips-for-your-association/
LOCATION:https://zoom.us/j/93248336312
CATEGORIES:ASSOCIATIONS & NONPROFITS
ATTACH;FMTTYPE=image/png:https://usteducation.org/wp-content/uploads/2023/02/Erica-1-1.png
ORGANIZER;CN="Erica Salm Rench%2C MBA":MAILTO:erica@sidecar.ai
END:VEVENT
BEGIN:VEVENT
DTSTART;TZID=America/New_York:20221018T130000
DTEND;TZID=America/New_York:20221018T140000
DTSTAMP:20260425T120342
CREATED:20220914T162038Z
LAST-MODIFIED:20231013T172155Z
UID:10000194-1666098000-1666101600@usteducation.org
SUMMARY:Impact CEO: How to Develop a Relationship With Your Board
DESCRIPTION:COURSE DESCRIPTION: \nWhat do CEOs really think about their board chair relationship and its organizational impact? Research findings indicate that positive reciprocal relationships between CEOs and their board chair can result in organizational accomplishments and sustainability\, while negative relationships can hinder performance and can compromise the sustainability of their organizations. Gain insights from fellow CEOs on how to cultivate positive and reciprocal board chair relationships. \n  \nLEARNING OBJECTIVES: \n\nLearn what CEOs really think about their board chair relationship and its organizational impact\nHear about how positive reciprocal relationships between CEOs and their board chair can result in organizational accomplishments and sustainability\, while negative relationships can hinder performance and can compromise the sustainability of their organizations.\nGain insights from fellow CEOs on how to cultivate positive and reciprocal board chair relationships.
URL:https://usteducation.org/event/impact-ceo-how-to-develop-a-relationship-with-your-board/
LOCATION:https://zoom.us/j/95989390612
CATEGORIES:ASSOCIATIONS & NONPROFITS
ATTACH;FMTTYPE=image/png:https://usteducation.org/wp-content/uploads/2022/09/RECENT-websiteemail-Graphics-1200X600-px-19.png
END:VEVENT
BEGIN:VEVENT
DTSTART;TZID=America/New_York:20221019T130000
DTEND;TZID=America/New_York:20221019T143000
DTSTAMP:20260425T120342
CREATED:20220804T164452Z
LAST-MODIFIED:20231013T175009Z
UID:10000146-1666184400-1666189800@usteducation.org
SUMMARY:Supercharging your Workforce Development initiatives with a Docuseries
DESCRIPTION:COURSE DESCRIPTION: \nThe Society of Mining\, Metallurgy and Exploration (SME) is similar to many associations.  Successful and making a difference in their industry.  \nBut that was not enough for SME.  In a tight hiring market\, they knew that they needed to spread the word on how impactful their industry is\, and to attract young people into their industry – to discover the amazing career opportunities and diverse opportunities available.  SME and WorkerBee.TV will share how the association leaned into a Docuseries model titled “Jobs of Tomorrow” that will be launching in Q4 of 2022.  \n  \nLEARNING OBJECTIVES: \n\nLearn why a docuseries model can create content for members and for future members\nLearn how a docuseries is becoming an exciting format to leverage wide distribution\nLearn how this program can be self-funded\nLearn how a docuseries can support your DEI and Workforce Development initiatives
URL:https://usteducation.org/event/supercharging-your-workforce-development-initiatives-with-a-docuseries/
LOCATION:https://zoom.us/j/94206268184
CATEGORIES:ASSOCIATIONS & NONPROFITS
ATTACH;FMTTYPE=image/png:https://usteducation.org/wp-content/uploads/2022/08/RECENT-websiteemail-Graphics-1200X600-px-4.png
ORGANIZER;CN="Dan Stevens":MAILTO:dan.stevens@talewinddigital.com
END:VEVENT
BEGIN:VEVENT
DTSTART;TZID=America/New_York:20221019T150000
DTEND;TZID=America/New_York:20221019T163000
DTSTAMP:20260425T120342
CREATED:20220901T185909Z
LAST-MODIFIED:20231013T165353Z
UID:10000177-1666191600-1666197000@usteducation.org
SUMMARY:Application Connection Tools: How to Use iPass Effectively
DESCRIPTION:COURSE DESCRIPTION: \nA new approach to connecting applications such as AMS platforms and fundraising tools\, an integration platform as a service—or iPaaS—could cut down on the need for customization while simplifying integration. Here’s why it’s trending among association IT pros.  \nIf your association has been leaning on custom integrations that feel costly and difficult to manage\, know that with a little digital glue\, you might be able to connect all your disparate apps—social networks\, email providers\, and online communities—together. \nThe concept is called iPaaS\, or integration platform as a service\, and it’s a growing trend that is finding new interest among associations. It simplifies integration among different types of tools by streamlining the connection of application programming interfaces (APIs)—essentially\, interfaces that allow different tools and their data to connect with one another—utilizing a low-code or no-code interface. \niPaaS could help solve a problem for associations: It could make a best-in-breed approach feel as tightly integrated as an all-in-one solution. And that could change associations’ relationship with their technology stacks significantly. \n  \nLEARNING OBJECTIVES: \n\nLearn best-in-breed approach for an all-in-one solution\nLearn a new approach to connecting applications such as AMS platforms and fundraising tools\nLearn how you can cut down on the need for customization while simplifying integration\nLearn to better understand potential opportunities to standardize how iPaaS tools are used by associations\n\n 
URL:https://usteducation.org/event/application-connection-tools-how-to-use-ipass-effectively/
LOCATION:https://zoom.us/j/94022211544
CATEGORIES:ASSOCIATIONS & NONPROFITS
ATTACH;FMTTYPE=image/png:https://usteducation.org/wp-content/uploads/2022/09/RECENT-websiteemail-Graphics-1200X600-px-5.png
ORGANIZER;CN="Ben Muscolino":MAILTO:ben@amsgeek.com
END:VEVENT
BEGIN:VEVENT
DTSTART;TZID=America/New_York:20221020T110000
DTEND;TZID=America/New_York:20221020T120000
DTSTAMP:20260425T120342
CREATED:20220829T170844Z
LAST-MODIFIED:20231013T174018Z
UID:10000169-1666263600-1666267200@usteducation.org
SUMMARY:Cyber Fundamentals: What Association Executives Should Know
DESCRIPTION:COURSE DESCRIPTION: \nThe threats\, risks\, and potential solutions within cybersecurity are changing faster than any other area of technology.  As critical as this topic is for an organization’s future and brand reputation\, it is one of the least understood by executives.  This webinar does away with the tech-talk and explains the must-know facts about cybersecurity risks\, what executives need to understand\, what questions to ask\, and how to ensure your IT team is headed in the right direction at an adequate pace. \n  \nLEARNING OBJECTIVES: \n\nWhat’s driving this surge in cybersecurity incidents?\nWhat’s our greatest risks?\nHow can I understand if IT is doing the right thing?\nHow do I know if we’re doing enough?\n\n 
URL:https://usteducation.org/event/cyber-fundamentals-what-association-executives-should-know/
LOCATION:https://zoom.us/j/94232862564
CATEGORIES:ASSOCIATIONS & NONPROFITS
ATTACH;FMTTYPE=image/png:https://usteducation.org/wp-content/uploads/2022/08/98.png
END:VEVENT
BEGIN:VEVENT
DTSTART;TZID=America/New_York:20221020T130000
DTEND;TZID=America/New_York:20221020T143000
DTSTAMP:20260425T120342
CREATED:20220804T164722Z
LAST-MODIFIED:20221018T183719Z
UID:10000147-1666270800-1666276200@usteducation.org
SUMMARY:W240: Representation Matters: How to Use Video to Create More Inclusive Cultures
DESCRIPTION:COURSE DESCRIPTION: \nAssociations are uniquely positioned to create more diverse\, inclusive and equitable cultures\, both within the organization and throughout the entire industry. By lifting up the voices of real people\, and especially those too often left out of the conversation\, associations can move beyond written DEI statements and deliver long-lasting impact. In this course\, we’ll walk through real-world examples from association leaders who are implementing these ideas and discuss best practices for gathering\, editing\, and publishing content that is more representative and inclusive of your diverse community.\n \n  \nLEARNING OBJECTIVES: \n\nLearn how to summarize the process of planning\, executing\, and optimizing user-generated video campaigns to support diversity\, equity\, and inclusion initiatives.\nLearn how to assess the organization’s current campaigns to identify areas of opportunity to include more diverse voices and perspectives\nLearn how to identify best practices for identifying video contributors\, gathering the content\, and deploying it across marketing channels
URL:https://usteducation.org/event/w240-representation-matters-how-to-use-video-to-create-more-inclusive-cultures/
LOCATION:https://zoom.us/j/92862426638
CATEGORIES:ASSOCIATIONS & NONPROFITS
ATTACH;FMTTYPE=image/png:https://usteducation.org/wp-content/uploads/2022/08/RECENT-websiteemail-Graphics-1200X600-px-26.png
END:VEVENT
BEGIN:VEVENT
DTSTART;TZID=America/New_York:20221020T150000
DTEND;TZID=America/New_York:20221020T160000
DTSTAMP:20260425T120342
CREATED:20220908T211002Z
LAST-MODIFIED:20221010T191314Z
UID:10000184-1666278000-1666281600@usteducation.org
SUMMARY:W331: Five New Ideas: Not Your Grandma’s Non-Dues Revenue
DESCRIPTION:COURSE DESCRIPTION: \nWhile average associations get the biggest chunk of annual revenue from membership dues\, reliance on dues revenue is waning. According to the last ASAE’s Operating Ratio Report\, over the last 65 years\, the percentage of association revenue from dues has plummeted. To continue to effectively fund operations while holding dues increases at bay\, many organizations are focused on driving non-dues revenue. \nBut we can’t depend on our members to be satisfied with the same-old\, same-old concepts. At the same time\, millennials are taking over workplace buying decisions and have new expectations about engaging with the organizations they belong to. Plus\, your sponsors and advertisers demand fresh opportunities that will keep them digging in their pockets to support your association. There’s untapped and unexpected value right at your fingertips. Let’s dig in on the possibilities! \n  \nLEARNING OBJECTIVES: \n\nObtain a clear understanding of why organizations should keep reinventing non-dues revenue opportunities\nArticulate the business case and strategies for implementing the five non-dues revenue concepts\nGain insights from organizations already earning revenue using these new concepts
URL:https://usteducation.org/event/w331-five-new-ideas-not-your-grandmas-non-dues-revenue/
LOCATION:https://zoom.us/j/92271357207
CATEGORIES:ASSOCIATIONS & NONPROFITS
ATTACH;FMTTYPE=image/png:https://usteducation.org/wp-content/uploads/2022/08/W331WS.png
ORGANIZER;CN="Teri Carden":MAILTO:teri@insightguide.com
END:VEVENT
END:VCALENDAR