BEGIN:VCALENDAR
VERSION:2.0
PRODID:-//UST Education - ECPv6.15.20//NONSGML v1.0//EN
CALSCALE:GREGORIAN
METHOD:PUBLISH
X-ORIGINAL-URL:https://usteducation.org
X-WR-CALDESC:Events for UST Education
REFRESH-INTERVAL;VALUE=DURATION:PT1H
X-Robots-Tag:noindex
X-PUBLISHED-TTL:PT1H
BEGIN:VTIMEZONE
TZID:America/New_York
BEGIN:DAYLIGHT
TZOFFSETFROM:-0500
TZOFFSETTO:-0400
TZNAME:EDT
DTSTART:20210314T070000
END:DAYLIGHT
BEGIN:STANDARD
TZOFFSETFROM:-0400
TZOFFSETTO:-0500
TZNAME:EST
DTSTART:20211107T060000
END:STANDARD
BEGIN:DAYLIGHT
TZOFFSETFROM:-0500
TZOFFSETTO:-0400
TZNAME:EDT
DTSTART:20220313T070000
END:DAYLIGHT
BEGIN:STANDARD
TZOFFSETFROM:-0400
TZOFFSETTO:-0500
TZNAME:EST
DTSTART:20221106T060000
END:STANDARD
BEGIN:DAYLIGHT
TZOFFSETFROM:-0500
TZOFFSETTO:-0400
TZNAME:EDT
DTSTART:20230312T070000
END:DAYLIGHT
BEGIN:STANDARD
TZOFFSETFROM:-0400
TZOFFSETTO:-0500
TZNAME:EST
DTSTART:20231105T060000
END:STANDARD
END:VTIMEZONE
BEGIN:VEVENT
DTSTART;TZID=America/New_York:20221025T110000
DTEND;TZID=America/New_York:20221025T123000
DTSTAMP:20260425T080104
CREATED:20220804T164958Z
LAST-MODIFIED:20220920T212013Z
UID:10000148-1666695600-1666701000@usteducation.org
SUMMARY:W289: The Value Of Emotional Intelligence – How To Be More And Get More From Yourself And Business Relationships
DESCRIPTION:COURSE DESCRIPTION: \nIn today’s climate\, organizations are experiencing change and transition due to shifting priorities affected by external societal demands – so it’s not enough to be technically sound – you must be emotionally intelligent and culturally competent.  Emotional Intelligence (EI) is all about authentic engagement. It’s a thoughtful and profound way of showing up in life. A way that informs your relationship to yourself\, others and the world. \n  \nLEARNING OBJECTIVES: \n\nLearn what EI is and why we need it\nLearn how to get EI\nLearn why EI important to leaders
URL:https://usteducation.org/event/w289-the-value-of-emotional-intelligence-how-to-be-more-and-get-more-from-yourself-and-business-relationships/
LOCATION:https://zoom.us/j/93795877234
CATEGORIES:ASSOCIATIONS & NONPROFITS
ATTACH;FMTTYPE=image/png:https://usteducation.org/wp-content/uploads/2022/08/RECENT-websiteemail-Graphics-1200X600-px-7.png
END:VEVENT
BEGIN:VEVENT
DTSTART;TZID=America/New_York:20221025T130000
DTEND;TZID=America/New_York:20221025T143000
DTSTAMP:20260425T080104
CREATED:20220829T172003Z
LAST-MODIFIED:20221027T182335Z
UID:10000170-1666702800-1666708200@usteducation.org
SUMMARY:W320: Association/Nonprofit Board of Directors: Governance\, Risk Management & Training
DESCRIPTION:GKG Law’s Rich Bar will be the instructor for a U.S. Transactions Corp. webinar on October 25\, 2022. Rich’s webinar\, Association/Nonprofit Board of Directors: Governance\, Risk Management & Training\, is targeted to CEOs\, COOs and CFOs. Attendees will learn how to better equip board members and directors for success in their roles; how to ensure the board continuously works to promote and obtain the mission of the organization; fiduciary duty considerations and challenges; and appropriate conflict of interest management. Further course description can be found below. \nOne of the most important components of an association CEO/COO/CFO’s demanding role involves serving as a day-to-day conduit to the board. Boards comprised solely of volunteers sometimes don’t receive the comprehensive training needed to perform successfully. Too often\, volunteer board directors don’t understand the full spectrum of fiduciary\, contractual and legal duties associated with their role\, or the risks and responsibilities involved when a perceived or actual conflict of interest arises. As a CEO/COO/CFO\, what steps can be taken to avoid these potentially critical issues? \n  \nLearning Objectives \n  \n\nLearn how to better equip board members for success in their roles through training and communication.\nLearn how to educate volunteer board members to understand their fiduciary\, contractual and legal duties associated with their role\nUnderstand what steps can be taken as a C-Level executive to avoid potential critical issues around board governance.
URL:https://usteducation.org/event/w320-association-nonprofit-board-of-directors-governance-risk-management-training/
LOCATION:https://zoom.us/j/93180591922
CATEGORIES:ASSOCIATIONS & NONPROFITS
ATTACH;FMTTYPE=image/png:https://usteducation.org/wp-content/uploads/2022/08/RECENT-websiteemail-Graphics-1200X600-px-6-1.png
END:VEVENT
BEGIN:VEVENT
DTSTART;TZID=America/New_York:20221026T110000
DTEND;TZID=America/New_York:20221026T123000
DTSTAMP:20260425T080104
CREATED:20220915T130034Z
LAST-MODIFIED:20221017T193734Z
UID:10000202-1666782000-1666787400@usteducation.org
SUMMARY:W342: Caveat Emptor: Becoming a Responsible Consumer of Research
DESCRIPTION:COURSE DESCRIPTION: \nAssociation execs consume – and produce – a lot of research in our day-to-day work\, but most of us don’t have formal training in research. A lot of the language of research programs– p-values and confidence intervals and margins of error – can be pretty jargony\, and some of the concepts behind what makes for good (or less good) research can be challenging for people who haven’t had the opportunity to take a graduate level methods course. \nHow can you be sure that the research you’re using or sponsoring is giving you the insight you need to make good decisions? How can you protect your association’s reputation as a trusted source of unbiased information for the profession or industry you serve? \nJoin Elizabeth Engel and Polly Karpowicz for a webinar based on their recently-released whitepaper\, where they will share a plain-language review of key concepts and approaches in consuming and sponsoring research so you don’t have to “beware” and can be confident that you’re setting yourself\, your association\, your members and other stakeholders\, and the people in the profession or industry your association serves up for success in making data-informed decisions that will allow you to achieve your most important goals and solve your most pressing problems. \n  \nLEARNING OBJECTIVES: \n\nParticipants will develop a working knowledge of key concepts in defining research questions\, choosing data collection methods\, designing research instruments\, collecting data\, and interpreting and reporting results.\nParticipants will learn about the types of methodological bias that can creep into research projects and the steps they can take to ameliorate them.\nParticipants will hear case studies of associations running efficient\, effective research programs.\n\n 
URL:https://usteducation.org/event/w342-caveat-emptor-becoming-a-responsible-consumer-of-research/
LOCATION:https://us02web.zoom.us/j/85455500615
CATEGORIES:ASSOCIATIONS & NONPROFITS
ATTACH;FMTTYPE=image/png:https://usteducation.org/wp-content/uploads/2022/09/RECENT-websiteemail-Graphics-1200X600-px-8.png
END:VEVENT
BEGIN:VEVENT
DTSTART;TZID=America/New_York:20221026T130000
DTEND;TZID=America/New_York:20221026T143000
DTSTAMP:20260425T080104
CREATED:20220902T211828Z
LAST-MODIFIED:20220926T155408Z
UID:10000179-1666789200-1666794600@usteducation.org
SUMMARY:W324: Think Outside the AMS
DESCRIPTION:COURSE DESCRIPTION: \nMember expectations continue to rise while association staff time is stretched thin. Join us for an interactive session exploring how to automate your digital ecosystem so that staff can deliver more member value in less time. \nNo matter how hard an AMS tries\, it can’t be all things to all people. That’s ok. With the explosion of cloud technology\, there have never been more options for organizations to streamline their operations while enhancing the member experience. The ASAE tech community calls this the “best in class” approach – finding software that fits your needs and integrating it in a seamless way with your AMS. \nThis session isn’t just for the techies… it’s designed to empower anyone who is thinking that “there must be a better way.” \n  \nLEARNING OBJECTIVE: \n\nLearn how to evaluate their organization’s approach to association software\, distinguishing between an “all in one” versus a “best in class” strategy\,\nLearn how to translate often intimidating technical terminology surrounding APIs and SSOs into real-world concepts that can be implemented in their organization\, and\nLearn how to evaluate association software options for their ability to streamline staff work and improve the overall experience for members.\n\n 
URL:https://usteducation.org/event/w324-building-member-value-in-a-post-pandemic-world/
LOCATION:https://zoom.us/j/93002589792
CATEGORIES:ASSOCIATIONS & NONPROFITS
ATTACH;FMTTYPE=image/png:https://usteducation.org/wp-content/uploads/2022/08/100.png
END:VEVENT
BEGIN:VEVENT
DTSTART;TZID=America/New_York:20221026T150000
DTEND;TZID=America/New_York:20221026T160000
DTSTAMP:20260425T080104
CREATED:20220804T161326Z
LAST-MODIFIED:20240531T213220Z
UID:10000139-1666796400-1666800000@usteducation.org
SUMMARY:B137: What You are NOT Being Told About Credit Card Processing
DESCRIPTION:Credit card processing or Merchant Services is widely used by businesses and nonprofit organizations.  One can hardly image today going through life without being able to purchase goods and services without using a credit card.\n \nIn spite of its ubiquitousness in commerce\, there are a lot of things that organizations are not being told about credit card processing (aka Merchant Services).  If you know some important things that you are NOT being told today by your service provider (or in the general media)\, you would have greater opportunities for data security\, cost savings\, and process improvements (i.e.\, eliminating manual processes).\n \n\n\n\n\nLEARNING OBJECTIVES\n \n\n\nLearn about 4 important payment trends which emerged from the pandemic.\nLearn two key changes you should make in 2022 with your payment and credit card collection practices.\nUnderstand Credit card fees — what you are NOT being told and why that is costing your organization money.\nLearn alternatives to credit card collections — the ecosystem that supports Visa/MasterCard and AMEX definitely don’t want you to know this.\nLearn PCI compliance and security issues for 2022 — why are you not aware of this.\nLearn how to do an RFP for Merchant Services — an outline that you can use today.
URL:https://usteducation.org/event/b137-what-you-are-not-being-told-about-credit-card-processing/
LOCATION:https://zoom.us/j/99112914601
CATEGORIES:ASSOCIATIONS & NONPROFITS,B2B/B2G,Finance,Finance,Finance,MICROSOFT DYNAMICS,Payments/PCI Compliance,Payments/PCI Compliance,Payments/PCI Compliance
ATTACH;FMTTYPE=image/png:https://usteducation.org/wp-content/uploads/2022/08/126.png
END:VEVENT
BEGIN:VEVENT
DTSTART;TZID=America/New_York:20221027T130000
DTEND;TZID=America/New_York:20221027T140000
DTSTAMP:20260425T080104
CREATED:20220914T164301Z
LAST-MODIFIED:20221025T184332Z
UID:10000195-1666875600-1666879200@usteducation.org
SUMMARY:W340: How You Can Use Salesforce for No Cost as a Nonprofit
DESCRIPTION:COURSE DESCRIPTION: \nSalesforce is the world’s #1 CRM platform with a wide range of apps\, integration capabilities and providing a single source of truth for your organization’s data. In our upcoming webinar “How You Can Use Salesforce for No Cost as a Nonprofit” our panel will be discussing how Nonprofits can leverage Salesforce’s Power of Us Grant & NPSP to begin utilizing the power of Salesforce for no cost to the nonprofit itself. Join us on DATE to learn about how Salesforce supports Nonprofits with it’s Nonprofit Success Starter Pack(NPSP) and how your organization can start it’s digital transformation at no cost. \n  \nLEARNING OBJECTIVES: \n\nLearn what Salesforce is.\nLearn how NPSP & the Power of Us Grant supports Nonprofits.\nLearn how your can organization get started with NPSP\, what the common use cases are for nonprofits and how to become more comfortable with Salesforce.
URL:https://usteducation.org/event/w340-how-you-can-use-salesforce-for-no-cost-as-a-nonprofit/
LOCATION:https://zoom.us/j/98999660553
CATEGORIES:ASSOCIATIONS & NONPROFITS
ATTACH;FMTTYPE=image/png:https://usteducation.org/wp-content/uploads/2022/09/RECENT-websiteemail-Graphics-1200X600-px-2.png
END:VEVENT
BEGIN:VEVENT
DTSTART;TZID=America/New_York:20221027T150000
DTEND;TZID=America/New_York:20221027T160000
DTSTAMP:20260425T080104
CREATED:20220912T201034Z
LAST-MODIFIED:20220926T155606Z
UID:10000189-1666882800-1666886400@usteducation.org
SUMMARY:W336: Bolstering Board Diversity: How Diversity Increases Board Effectiveness
DESCRIPTION:COURSE DESCRIPTION: \nIn a recent study of board effectiveness\, half of all respondents note increased diversity is an important strategic priority for their organization—but few have developed plans to diversify their board’s composition. Moving from intention to action requires a clear roadmap with concrete steps. Discuss the challenges and risks when creating actionable plans for improving board diversity and identify objective ways to measure diversity across skills and experience. \n  \nLEARNING OBJECTIVES: \n\nLearn the challenges and risks when creating actionable plans for improving board diversity. \nLearn how to make a clear roadmap with concrete steps when developing plans to diversify your board’s composition.\nLearn how to identify objective ways to measure diversity across skills and experience.\n\n 
URL:https://usteducation.org/event/w336-bolstering-board-diversity-how-diversity-increases-board-effectiveness/
LOCATION:https://zoom.us/j/99023004421
CATEGORIES:ASSOCIATIONS & NONPROFITS
ATTACH;FMTTYPE=image/png:https://usteducation.org/wp-content/uploads/2022/09/336WS.png
END:VEVENT
END:VCALENDAR