BEGIN:VCALENDAR
VERSION:2.0
PRODID:-//UST Education - ECPv6.15.20//NONSGML v1.0//EN
CALSCALE:GREGORIAN
METHOD:PUBLISH
X-ORIGINAL-URL:https://usteducation.org
X-WR-CALDESC:Events for UST Education
REFRESH-INTERVAL;VALUE=DURATION:PT1H
X-Robots-Tag:noindex
X-PUBLISHED-TTL:PT1H
BEGIN:VTIMEZONE
TZID:America/New_York
BEGIN:DAYLIGHT
TZOFFSETFROM:-0500
TZOFFSETTO:-0400
TZNAME:EDT
DTSTART:20210314T070000
END:DAYLIGHT
BEGIN:STANDARD
TZOFFSETFROM:-0400
TZOFFSETTO:-0500
TZNAME:EST
DTSTART:20211107T060000
END:STANDARD
BEGIN:DAYLIGHT
TZOFFSETFROM:-0500
TZOFFSETTO:-0400
TZNAME:EDT
DTSTART:20220313T070000
END:DAYLIGHT
BEGIN:STANDARD
TZOFFSETFROM:-0400
TZOFFSETTO:-0500
TZNAME:EST
DTSTART:20221106T060000
END:STANDARD
BEGIN:DAYLIGHT
TZOFFSETFROM:-0500
TZOFFSETTO:-0400
TZNAME:EDT
DTSTART:20230312T070000
END:DAYLIGHT
BEGIN:STANDARD
TZOFFSETFROM:-0400
TZOFFSETTO:-0500
TZNAME:EST
DTSTART:20231105T060000
END:STANDARD
END:VTIMEZONE
BEGIN:VEVENT
DTSTART;TZID=America/New_York:20221129T110000
DTEND;TZID=America/New_York:20221129T120000
DTSTAMP:20260425T080012
CREATED:20221003T205014Z
LAST-MODIFIED:20230403T202558Z
UID:10000231-1669719600-1669723200@usteducation.org
SUMMARY:W352: The High Life and Dangers of an Undercover Member Forum
DESCRIPTION:COURSE DESCRIPTION: \nLearn how to go undercover to review association website pages and the results of voicemails\, emails\, and contact-us forms. You will be trained as an undercover member to understand what these experiences and interactions can be within any organization through the perspective of an association member. Learn what to look for that may be confusing\, unclear\, or outdated for your members and prospective members. Additionally\, in this highly engaging session\, you will be challenged with examples and illustrations to elevate the member and event attendee experience. \n  \nLEARNING OBJECTIVES: \n\nLearn how to see member engagement points through the perspective of a new member\nLearn how to partner with others and target areas for review in a timely manner\nLearn how to energize and get total staff buy-in for an improved overall member experience 
URL:https://usteducation.org/event/w352-the-high-life-and-dangers-of-an-undercover-member-forum/
LOCATION:https://zoom.us/j/92886744244
CATEGORIES:ASSOCIATIONS & NONPROFITS
ATTACH;FMTTYPE=image/png:https://usteducation.org/wp-content/uploads/2023/01/Alfred-2.png
END:VEVENT
BEGIN:VEVENT
DTSTART;TZID=America/New_York:20221130T100000
DTEND;TZID=America/New_York:20221130T110000
DTSTAMP:20260425T080012
CREATED:20221027T181712Z
LAST-MODIFIED:20231013T171306Z
UID:10000247-1669802400-1669806000@usteducation.org
SUMMARY:Best Practices For Puting Together a Nonprofit Strategic Plan
DESCRIPTION:COURSE DESCRIPTION: \nAssociations of all shapes and sizes engage in strategic planning that often results the creation of a multi-year strategic plan. A meaningful strategic plan sets the Association’s priorities and focuses the leadership and staff on execution of those priorities.  Many associations are so focused on the creation of the plan itself that the plan loses meaning and often aren’t executed. Through the implementation of best practices and the avoidance of common pitfalls every organization can create a meaningful strategic plan through a process that is right sized to fit their organization. \n  \nLEARNING OBJECTIVES: \n\nUnderstand key factors in developing and communicating a strategic plan.\nDiscussion on the impact your board composition can have on your strategic plan design and funding.\nDiscuss different ways strategic plans are funded.
URL:https://usteducation.org/event/best-practices-for-puting-together-a-nonprofit-strategic-plan/
LOCATION:https://zoom.us/j/92730590753
CATEGORIES:ASSOCIATIONS & NONPROFITS
ATTACH;FMTTYPE=image/png:https://usteducation.org/wp-content/uploads/2022/10/RECENT-websiteemail-Graphics-1200X600-px-15.png
END:VEVENT
BEGIN:VEVENT
DTSTART;TZID=America/New_York:20221130T100000
DTEND;TZID=America/New_York:20221130T154500
DTSTAMP:20260425T080012
CREATED:20221025T215500Z
LAST-MODIFIED:20221118T155522Z
UID:10000241-1669802400-1669823100@usteducation.org
SUMMARY:WINTER SYMPOSIUM\, Washington D.C. (In-person)
DESCRIPTION:Join us in Washington\, D.C. for an in-person one day only event! \n\n\n\n(for Associations & Nonprofit Professionals) \nWe have combined four dynamic sessions for an in-person one day event to learn\, earn\, & network with your peers.\nFOCUS: Finance | Tech | Strategy\n\nWednesday\, November 30th\n10:00 AM – 3:45 PM @Clydes Restaurant; Gallery Place\n3:45 PM – 5PM and beyond…Happy Hour\nLEADERSHIP AWARDS will be presented for selected Association professionals\nRegistration:  $25 (includes 4 sessions\, lunch & Happy Hour) You will be invoiced after registration. \nUp to 4 CPE/CAE Credits\n\n\n\n\n\nSession Details\nSession 1: Non-Profit Strategic Plans – Best Practices & Key Pitfalls \nInstructors: David Keen\, CFO Business Development at American Physical Therapy Association; Jennifer Brearey\, Chief Financial and Operating Officer at AdvaMed \n  \nSession 2: 5 Steps To Selling Your Board of Directors on Your Required Technology Spend \nInstructor: Ali Niroo; Managing Partner; BridgePointe Technologies \n  \nSession 3: How to Craft a Compelling Story for Your Organization Using Financial Footnotes and Forms (990) \nInstructor: Rob Eby\, CPA\, CGMA\, Experienced Accountant of Nonprofit Organizations\, Partner at Aronson LLC; Stacy Cullen\, Tax Director\, Aronson LLC \n  \nSession 4: Cybersecurity Fundamentals for 501C Executives \nInstructor: Brian Scott\, President\, CIO\, ClearTone Consulting LLC \n 
URL:https://usteducation.org/event/winter-symposium-washington-d-c-in-person/
CATEGORIES:ASSOCIATIONS & NONPROFITS
ATTACH;FMTTYPE=image/png:https://usteducation.org/wp-content/uploads/2022/10/RECENT-websiteemail-Graphics-1200X600-px-4.png
END:VEVENT
BEGIN:VEVENT
DTSTART;TZID=America/New_York:20221130T111500
DTEND;TZID=America/New_York:20221130T121500
DTSTAMP:20260425T080012
CREATED:20221031T184311Z
LAST-MODIFIED:20221115T133746Z
UID:10000259-1669806900-1669810500@usteducation.org
SUMMARY:S302: 5 Steps To Selling Your Board of Directors on Your Required Technology Spend
DESCRIPTION:COURSE DESCRIPTION: \nConvincing the board to invest money\, time and resources in technology is no small feat. It can be a nerve-racking task to have just one chance to present to not one\, but multiple people\, on the value of a technology upgrade to the organisation. How can you get the board on your side? There are two components to this challenge. In this session\, I will discuss best practices for the board meeting itself. We will review the specific steps you should take before the board meeting even occurs\, both while preparing a presentation and speaking with board members privately. \n  \nLEARNING OBJECTIVES: \n\nLearn how to detail how managed IT services will affect your budget\nLearn how to articulate the ongoing value of IT services\nLearn how to provide the correct documentation to support your proposals.
URL:https://usteducation.org/event/s302-5-steps-to-selling-your-board-of-directors-on-your-required-technology-spend/
LOCATION:zoom.us/j/92730590753
CATEGORIES:ASSOCIATIONS & NONPROFITS
ATTACH;FMTTYPE=image/png:https://usteducation.org/wp-content/uploads/2022/10/RECENT-websiteemail-Graphics-1200X600-px-14.png
ORGANIZER;CN="Ali Niroo":MAILTO:ali@bpt3.net
END:VEVENT
BEGIN:VEVENT
DTSTART;TZID=America/New_York:20221130T133000
DTEND;TZID=America/New_York:20221130T143000
DTSTAMP:20260425T080012
CREATED:20221011T201219Z
LAST-MODIFIED:20221103T194929Z
UID:10000237-1669815000-1669818600@usteducation.org
SUMMARY:S303: How to Craft a Compelling Story for Your Organization Using Financial Footnotes and Forms (990)
DESCRIPTION:COURSE DESCRIPTION: \nThere is  more to your nonprofit than just the numbers on your 990 and financial statements.  Sophisticated donors often delve deeper than just the numbers before making contributions.  Learning to tell your organization’s story via IRS 990 and the financial statement footnotes is significant to your organization’s success. \n  \nLEARNING OBJECTIVES: \n\nLearn to use the 990 to tell the story.\nLearn to use the financial statement footnotes to tell the story.\nLearn to work cross-department to develop the story.
URL:https://usteducation.org/event/s303-how-to-craft-a-compelling-story-for-your-organization-using-financial-footnotes-and-forms-990/
LOCATION:https://zoom.us/j/92730590753
CATEGORIES:ASSOCIATIONS & NONPROFITS
ATTACH;FMTTYPE=image/png:https://usteducation.org/wp-content/uploads/2022/10/RECENT-websiteemail-Graphics-1200X600-px-9.png
END:VEVENT
BEGIN:VEVENT
DTSTART;TZID=America/New_York:20221130T144500
DTEND;TZID=America/New_York:20221130T154500
DTSTAMP:20260425T080012
CREATED:20221027T164919Z
LAST-MODIFIED:20221027T182953Z
UID:10000245-1669819500-1669823100@usteducation.org
SUMMARY:S304: Cybersecurity Fundamentals for 501C Executives
DESCRIPTION:COURSE DESCRIPTION: \nThe threats\, risks\, and potential solutions within cybersecurity are changing faster than any other area of technology.  As critical as this topic is for an organization’s future and brand reputation\, it is one of the least understood by executives.  This session does away with the tech-talk and explains the must-know facts about cybersecurity risks\, what executives need to understand\, what questions to ask\, and how to ensure your IT team is headed in the right direction at an adequate pace. \n  \nLEARNING OBJECTIVES: \n\nLearn what’s driving a surge in cybersecurity incidents.\nLearn what your greatest risk is.\nLearn how you can understand if IT is doing the right thing.\nLearn how to know if you are doing enough.
URL:https://usteducation.org/event/s304-cybersecurity-fundamentals-for-501c-executives/
LOCATION:https://zoom.us/j/92730590753
CATEGORIES:ASSOCIATIONS & NONPROFITS
ATTACH;FMTTYPE=image/png:https://usteducation.org/wp-content/uploads/2022/10/RECENT-websiteemail-Graphics-1200X600-px-7.png
END:VEVENT
BEGIN:VEVENT
DTSTART;TZID=America/New_York:20221201T100000
DTEND;TZID=America/New_York:20221201T110000
DTSTAMP:20260425T080012
CREATED:20220830T155637Z
LAST-MODIFIED:20240531T212416Z
UID:10000173-1669888800-1669892400@usteducation.org
SUMMARY:B141 : What is the Return on Investment (ROI) from Utilizing Asset Maintenance / Asset Management Software
DESCRIPTION:COURSE DESCRIPTION: \nBy the end of 2023\, 82% of enterprise decision makers will need to make critical decisions regarding the management of their enterprise assets. As organizations shift to more digitalized business models\, choosing the correct Enterprise Asset Management (EAM) system is key to their success. During this session\, you will learn how an intuitive asset management and maintenance solution can streamline maintenance work processes\, extend asset lifecycle\, reduce operational costs—and boosts overall efficiency. \n  \nLEARNING OBJECTIVES: \n\nUnderstand why an Enterprise Asset Management solution is so important to your customers and the ROI you can achieve.\nLearn why user adoption is key to the success of any asset management system and how to identify the winning features to make that happen.\nLearn how to identify asset management opportunities based on different verticals and how to evolve the solution as the business grows.
URL:https://usteducation.org/event/what-is-the-return-on-investment-roi-from-utilizing-asset-maintenance-asset-management-software/
LOCATION:https://zoom.us/j/92119426840
CATEGORIES:MICROSOFT DYNAMICS
ATTACH;FMTTYPE=image/png:https://usteducation.org/wp-content/uploads/2022/08/B141WS-1.png
END:VEVENT
END:VCALENDAR