BEGIN:VCALENDAR
VERSION:2.0
PRODID:-//UST Education - ECPv6.15.20//NONSGML v1.0//EN
CALSCALE:GREGORIAN
METHOD:PUBLISH
X-WR-CALNAME:UST Education
X-ORIGINAL-URL:https://usteducation.org
X-WR-CALDESC:Events for UST Education
REFRESH-INTERVAL;VALUE=DURATION:PT1H
X-Robots-Tag:noindex
X-PUBLISHED-TTL:PT1H
BEGIN:VTIMEZONE
TZID:America/New_York
BEGIN:DAYLIGHT
TZOFFSETFROM:-0500
TZOFFSETTO:-0400
TZNAME:EDT
DTSTART:20220313T070000
END:DAYLIGHT
BEGIN:STANDARD
TZOFFSETFROM:-0400
TZOFFSETTO:-0500
TZNAME:EST
DTSTART:20221106T060000
END:STANDARD
BEGIN:DAYLIGHT
TZOFFSETFROM:-0500
TZOFFSETTO:-0400
TZNAME:EDT
DTSTART:20230312T070000
END:DAYLIGHT
BEGIN:STANDARD
TZOFFSETFROM:-0400
TZOFFSETTO:-0500
TZNAME:EST
DTSTART:20231105T060000
END:STANDARD
BEGIN:DAYLIGHT
TZOFFSETFROM:-0500
TZOFFSETTO:-0400
TZNAME:EDT
DTSTART:20240310T070000
END:DAYLIGHT
BEGIN:STANDARD
TZOFFSETFROM:-0400
TZOFFSETTO:-0500
TZNAME:EST
DTSTART:20241103T060000
END:STANDARD
END:VTIMEZONE
BEGIN:VEVENT
DTSTART;TZID=America/New_York:20230130T090000
DTEND;TZID=America/New_York:20230130T100000
DTSTAMP:20260423T110501
CREATED:20230127T180653Z
LAST-MODIFIED:20230127T181716Z
UID:10000321-1675069200-1675072800@usteducation.org
SUMMARY:Breakfast Club Panel: Imposter Syndrome and the Glass Ceiling
DESCRIPTION:Description: \nJoin UST’s Breakfast Club Discussion where the ladies of UST\, along with special guests from time to time\, discuss various topics in the workplace. Be prepared for shenanigans\, lots of caffeine\, breakfast (obviously)\, fantastic discussion on a variety of topics\, a healthy dose of sarcasm\, positivity\, encouragement\, and really just about anything…  \nDoes Imposter Syndrome cause us to create our type of glass ceiling?   \nImposter Syndrome is a real phenomenon\, felt by many women in the workplace. It is defined as an internal experience of believing that one’s accomplishments are not genuine or earned but instead they were attributed to luck or external validation abilities. Join this event and gain insights on how it affects working women\, learn about tools and strategies for overcoming it\, and connect with other working professionals who share the same struggle. \nLet’s talk about it ! Through a lively and fun group discussion\, we will discuss concrete tips & techniques to challenge those harmful inner voices so that you can succeed in your professional career goals\, share personal stories or examples\, and just have fun. \n  \nNo CE credits \nNot Recorded
URL:https://usteducation.org/event/breakfast-club-panel-imposter-syndrome-and-the-glass-ceiling/
LOCATION:https://zoom.us/j/98941841850
ATTACH;FMTTYPE=image/png:https://usteducation.org/wp-content/uploads/2023/01/RECENT-websiteemail-Graphics-1200X600-px.png
END:VEVENT
BEGIN:VEVENT
DTSTART;TZID=America/New_York:20230131T110000
DTEND;TZID=America/New_York:20230131T120000
DTSTAMP:20260423T110501
CREATED:20221013T220440Z
LAST-MODIFIED:20231013T171915Z
UID:10000240-1675162800-1675166400@usteducation.org
SUMMARY:Non Profit Value Proposition: Pricing Strategies to Consider
DESCRIPTION:COURSE DESCRIPTION: \nWe will discuss driving revenue and creating value utilizing in-house BD staff who have a “for profit” mentality within the non-profit space. \n  \nLEARNING OBJECTIVES: \n\nLearn why it’s important to have dedicated BD staff.\nLearn how you can create value that drives sales through BD .\nLearn tactics to create an environment that motivates sales staff.\nLearn how creating a culture where mission- and money-driven staff cohesively work together.
URL:https://usteducation.org/event/non-profit-value-proposition-pricing-strategies-to-consider/
LOCATION:https://zoom.us/j/98440157191
CATEGORIES:ASSOCIATIONS & NONPROFITS
ATTACH;FMTTYPE=image/png:https://usteducation.org/wp-content/uploads/2022/10/Website-Graphics-December-June-2023-1-2.png
ORGANIZER;CN="Dianne Vance%2C CAE":MAILTO:dvances@gmail.com
END:VEVENT
BEGIN:VEVENT
DTSTART;TZID=America/New_York:20230131T130000
DTEND;TZID=America/New_York:20230131T140000
DTSTAMP:20260423T110501
CREATED:20220915T121933Z
LAST-MODIFIED:20231013T172931Z
UID:10000200-1675170000-1675173600@usteducation.org
SUMMARY:How to Grow Association Membership | Expert Tips
DESCRIPTION:COURSE DESCRIPTION: \nMany associations were hit hard over the last few years\, and membership has declined. The best associations are flat or growing marginally. Learn how to grow and retain members better by understanding their needs one member at a time by utilizing the conversational engagement approach of ASK\, CAPTURE\, ACT. \n  \nLEARNING OBJECTIVES: \n\nLearn how to engage members at the individual level\nLearn how to acquire and retain members at a higher rate\nLearn how to match member needs with your member benefits
URL:https://usteducation.org/event/how-to-grow-association-membership-expert-tips/
LOCATION:https://zoom.us/j/98700400060
CATEGORIES:ASSOCIATIONS & NONPROFITS
ATTACH;FMTTYPE=image/png:https://usteducation.org/wp-content/uploads/2022/09/Website-Graphics-December-June-2023-2.png
ORGANIZER;CN="Dave Will":MAILTO:dave@propfuel.com
END:VEVENT
BEGIN:VEVENT
DTSTART;TZID=America/New_York:20230201T110000
DTEND;TZID=America/New_York:20230201T120000
DTSTAMP:20260423T110501
CREATED:20221207T223204Z
LAST-MODIFIED:20230202T163025Z
UID:10000279-1675249200-1675252800@usteducation.org
SUMMARY:W391: The Power of Zapier
DESCRIPTION:COURSE DESCRIPTION: \nLearn how to leverage an automation platform to enhance member communications\, supercharge lead management with Artificial Intelligence\, robotize to replace the work of repetitive manual tasks\, and integrate disparate systems without any custom programming\, streamline reporting & analytics.  In this course we will demonstrate how you can put Zapier to use in your organization TODAY; it’s easy to use\, extremely powerful\, and budget friendly.  \n  \nLEARNING OBJECTIVES: \n\nUnderstand how the Zapier automation platform works. \nExplore how your automation visions can become reality – combining best of breed web apps into consolidated workflows. \nRethink how you can take a simple task like entering in data to a spreadsheet or database and automate it. \nLearn how to plan for your implementations of automations and find connection points between apps within your organization’s routine processes.
URL:https://usteducation.org/event/w391-the-power-of-zapier/
LOCATION:https://zoom.us/j/98546259649
CATEGORIES:ASSOCIATIONS & NONPROFITS
ATTACH;FMTTYPE=image/png:https://usteducation.org/wp-content/uploads/2022/12/Website-Graphics-December-June-2023-7-1.png
END:VEVENT
BEGIN:VEVENT
DTSTART;TZID=America/New_York:20230201T130000
DTEND;TZID=America/New_York:20230201T140000
DTSTAMP:20260423T110501
CREATED:20220930T182707Z
LAST-MODIFIED:20230126T194025Z
UID:10000224-1675256400-1675260000@usteducation.org
SUMMARY:W353: A Song for the Unsung: Leadership at any Level
DESCRIPTION:COURSE DESCRIPTION: \nThere’s an association hero in each of us at every level of our career journey. Using the fundamentals of Courageous Leadership: Authenticity\, Resilience\, Emotional Intelligence\, Self-Discipline\, and Commitment to Purpose\, you will learn how to find you own power to be change agents as well as coaches\, mentors\, and allies to empower others. Hear from a knowledgeable panel representing various career stages as they share their lessons learned and suggestions to address obstacles and opportunities. You will be inspired to commit to lifelong learning\, community collaboration\, and strategic thinking habits to become the hero of your own association story. \n  \nLEARNING OBJECTIVES: \n\nLearn how to find you own power to be change agents as well as coaches\, mentors\, and allies to empower others. \nLearn from a knowledgeable panel representing various career stages as they share their lessons learned and suggestions to address obstacles and opportunities.\nLearn how to commit to lifelong learning\, community collaboration\, and strategic thinking habits to become the hero of your own association story.
URL:https://usteducation.org/event/w353-a-song-for-the-unsung-leadership-at-any-level/
LOCATION:https://zoom.us/j/94096965364
CATEGORIES:ASSOCIATIONS & NONPROFITS
ATTACH;FMTTYPE=image/png:https://usteducation.org/wp-content/uploads/2022/09/Website-Graphics-December-June-2023.png
END:VEVENT
BEGIN:VEVENT
DTSTART;TZID=America/New_York:20230202T110000
DTEND;TZID=America/New_York:20230202T120000
DTSTAMP:20260423T110501
CREATED:20220902T211038Z
LAST-MODIFIED:20231013T174936Z
UID:10000178-1675335600-1675339200@usteducation.org
SUMMARY:Are You Safeguarding Your Organization? Guide To Fraud Prevention & Detection
DESCRIPTION:COURSE DESCRIPTION: \n\n\nIn this course\, you will learn how Associations can identify sources of fraud and how to limit your exposure to fraud. \n\n\n\n\nLEARNING OBJECTIVES:\n\n\nLearn how to reduce the likelihood of internal fraud.\nLearn about best practices to implement for fraud prevention\nLearn how to probe weaknesses that leave you vulnerable to bad actors
URL:https://usteducation.org/event/are-you-safeguarding-your-organization-guide-to-fraud-prevention-detection/
LOCATION:https://zoom.us/j/97965764757
CATEGORIES:ASSOCIATIONS & NONPROFITS
ATTACH;FMTTYPE=image/png:https://usteducation.org/wp-content/uploads/2022/09/Website-Graphics-December-June-2023-5.png
END:VEVENT
BEGIN:VEVENT
DTSTART;TZID=America/New_York:20230202T130000
DTEND;TZID=America/New_York:20230202T140000
DTSTAMP:20260423T110501
CREATED:20221206T180404Z
LAST-MODIFIED:20231013T170807Z
UID:10000273-1675342800-1675346400@usteducation.org
SUMMARY:Data Breach Risk Assesment: Key Factors to Consider
DESCRIPTION:COURSE DESCRIPTION: \nWhat constitutes a data breach?  No one organization can prevent itself from experiencing a data breach incident.  Having an annually updated response and recovery plan will help your organization successfully manage a data breach incident.  Regulatory requirements including the 50 state breach notification laws\, the FTC Red Flags Rule\, the HIPAA HITECH data breach requirements\, the PCI Data Security Standards\, and the COPPA (Children’s Online Privacy Protection Act).  Data breach risk management recommendations for affected individuals including employees and customers.  Join us to learn more about data breach response and best practices. \n  \nLEARNING OBJECTIVES: \n\nDiscover the three key data breach risk factors.\nGain an understanding of data breach risk management assessments.\nLearn data breach response best practices.
URL:https://usteducation.org/event/data-breach-risk-assesment-key-factors-to-consider/
LOCATION:https://zoom.us/j/92955806606
CATEGORIES:ASSOCIATIONS & NONPROFITS,B2B/B2G
END:VEVENT
END:VCALENDAR