BEGIN:VCALENDAR
VERSION:2.0
PRODID:-//UST Education - ECPv6.15.20//NONSGML v1.0//EN
CALSCALE:GREGORIAN
METHOD:PUBLISH
X-ORIGINAL-URL:https://usteducation.org
X-WR-CALDESC:Events for UST Education
REFRESH-INTERVAL;VALUE=DURATION:PT1H
X-Robots-Tag:noindex
X-PUBLISHED-TTL:PT1H
BEGIN:VTIMEZONE
TZID:America/New_York
BEGIN:DAYLIGHT
TZOFFSETFROM:-0500
TZOFFSETTO:-0400
TZNAME:EDT
DTSTART:20220313T070000
END:DAYLIGHT
BEGIN:STANDARD
TZOFFSETFROM:-0400
TZOFFSETTO:-0500
TZNAME:EST
DTSTART:20221106T060000
END:STANDARD
BEGIN:DAYLIGHT
TZOFFSETFROM:-0500
TZOFFSETTO:-0400
TZNAME:EDT
DTSTART:20230312T070000
END:DAYLIGHT
BEGIN:STANDARD
TZOFFSETFROM:-0400
TZOFFSETTO:-0500
TZNAME:EST
DTSTART:20231105T060000
END:STANDARD
BEGIN:DAYLIGHT
TZOFFSETFROM:-0500
TZOFFSETTO:-0400
TZNAME:EDT
DTSTART:20240310T070000
END:DAYLIGHT
BEGIN:STANDARD
TZOFFSETFROM:-0400
TZOFFSETTO:-0500
TZNAME:EST
DTSTART:20241103T060000
END:STANDARD
END:VTIMEZONE
BEGIN:VEVENT
DTSTART;TZID=America/New_York:20230221T110000
DTEND;TZID=America/New_York:20230221T120000
DTSTAMP:20260425T080024
CREATED:20221220T200535Z
LAST-MODIFIED:20240531T203312Z
UID:10000286-1676977200-1676980800@usteducation.org
SUMMARY:What You Need To Know About Using a Microsoft CRM System
DESCRIPTION:COURSE DESCRIPTION: \nThere are a lot of high-powered CRM packages on the market\, and the failure rate of CRM implementations is huge. If you already use Microsoft D365 Business Central and you are looking for a CRM solution\, this session gives you an overview of functional you already own. Rather than purchase licenses for another product that has to be integrated into Business Central why not start with what you have and decide if you need more later? \n  \n\n\n\n\nWelcome to Relationship Management CLICK HERE! \n\n\n\n\n  \nLEARNING OBJECTIVES: \n\n– Understanding that there is CRM functionality in Business Central\n– Understanding the difference between Customers and Contacts in Business Central\n– Identifying the functionality in Relationship Management\n– Diving into some of the key functional areas of Relationship Management\n– Providing an overview of remote access for the Sales Staff via Outlook
URL:https://usteducation.org/event/what-you-need-to-know-about-using-a-microsoft-crm-system/
LOCATION:https://zoom.us/j/96701586506
CATEGORIES:MICROSOFT DYNAMICS
ATTACH;FMTTYPE=image/png:https://usteducation.org/wp-content/uploads/2022/12/Templete.png
ORGANIZER;CN="Robb Delprado":MAILTO:rdelprado@llConsultingservices.com
END:VEVENT
BEGIN:VEVENT
DTSTART;TZID=America/New_York:20230221T130000
DTEND;TZID=America/New_York:20230221T140000
DTSTAMP:20260425T080024
CREATED:20221220T203535Z
LAST-MODIFIED:20240531T203248Z
UID:10000287-1676984400-1676988000@usteducation.org
SUMMARY:How to Stop Data Entry With Microsoft AI Copilot
DESCRIPTION:COURSE DESCRIPTION: \nCost control\, budgeting\, sales analysis\, food cost formulas\, and pricing goods are critical elements for success in any hospitality or culinary business. Food & Beverage managers need the right tools to keep track of sales and costs\, create systems for monitoring current activities\, and forecast future costs in an ever-evolving environment where labor and transportation costs are changing at dizzying speeds. \nThis webinar will explore some of the Microsoft solutions that can be tailored to your organizational needs to assist you in making timely and educated business decisions that help ensure your profitability – and give you a competitive edge. \n  \nLEARNING OBJECTIVES: \n\nCreate an expense report using different methods\nConfigure expense settings to meet business requirements\nReview reporting options for managing various approvals and integrations\nApply Expenses best practices
URL:https://usteducation.org/event/how-to-stop-data-entry-with-microsoft-ai-copilot/
LOCATION:https://zoom.us/j/99612389634
CATEGORIES:MICROSOFT DYNAMICS
ATTACH;FMTTYPE=image/png:https://usteducation.org/wp-content/uploads/2022/12/Andrew-.png
ORGANIZER;CN="Andrew Good":MAILTO:agood@libertygrove.com
END:VEVENT
BEGIN:VEVENT
DTSTART;TZID=America/New_York:20230222T150000
DTEND;TZID=America/New_York:20230222T160000
DTSTAMP:20260425T080024
CREATED:20221220T193239Z
LAST-MODIFIED:20240531T203121Z
UID:10000283-1677078000-1677081600@usteducation.org
SUMMARY:How to Save Money On Your Azure Cloud Migration Project
DESCRIPTION:COURSE DESCRIPTION: \n\nMigration is difficult and expensive\, but it doesn’t have to be! Customers are looking for a way to move from their on-premise system to the cloud\, without breaking the bank. In this webinar\, eOne Solutions will be giving you the 10\,000 foot view of migrating\, and the options you have at your disposal. We will be discussing: \n  \nLEARNING OBJECTIVES: \n\nMoving your data in a cost-efficient manner\nComparing the Price of Integration & Migration\nUsing the Azure Data Lake\n\n 
URL:https://usteducation.org/event/how-to-save-money-on-your-azure-cloud-migration-project/
LOCATION:https://zoom.us/j/99786467440
CATEGORIES:MICROSOFT DYNAMICS
ATTACH;FMTTYPE=image/png:https://usteducation.org/wp-content/uploads/2022/12/Chris-1.png
END:VEVENT
BEGIN:VEVENT
DTSTART;TZID=America/New_York:20230223T130000
DTEND;TZID=America/New_York:20230223T140000
DTSTAMP:20260425T080024
CREATED:20230110T213742Z
LAST-MODIFIED:20231228T143315Z
UID:10000302-1677157200-1677160800@usteducation.org
SUMMARY:Data Informed Decision Making | Learn From the Experts
DESCRIPTION:COURSE DESCRIPTION: \nAssociation execs consume – and produce – a lot of research in our day-to-day work\, but most of us don’t have formal training in research. A lot of the language of research programs– p-values and confidence intervals and margins of error – can be pretty jargony\, and some of the concepts behind what makes for good (or less good) research can be challenging for people who haven’t had the opportunity to take a graduate level methods course. \nHow can you be sure that the research you’re using or sponsoring is giving you the insight you need to make good decisions? How can you protect your association’s reputation as a trusted source of unbiased information for the profession or industry you serve? \nJoin Elizabeth Engel and Polly Karpowicz for a webinar based on their recently-released whitepaper\, where they will share a plain-language review of key concepts and approaches in consuming and sponsoring research so you don’t have to “beware” and can be confident that you’re setting yourself\, your association\, your members and other stakeholders\, and the people in the profession or industry your association serves up for success in making data-informed decisions that will allow you to achieve your most important goals and solve your most pressing problems. \n  \nLEARNING OBJECTIVES: \n\nParticipants will develop a working knowledge of key concepts in defining research questions\, choosing data collection methods\, designing research instruments\, collecting data\, and interpreting and reporting results.\nParticipants will learn about the types of methodological bias that can creep into research projects and the steps they can take to ameliorate them.\nParticipants will hear case studies of associations running efficient\, effective research programs.\n\n 
URL:https://usteducation.org/event/data-informed-decision-making-learn-from-the-experts/
LOCATION:https://zoom.us/j/92312513155
CATEGORIES:ASSOCIATIONS & NONPROFITS
ATTACH;FMTTYPE=image/png:https://usteducation.org/wp-content/uploads/2023/01/Website-Graphics-December-June-2023-3.png
END:VEVENT
END:VCALENDAR