BEGIN:VCALENDAR
VERSION:2.0
PRODID:-//UST Education - ECPv6.15.20//NONSGML v1.0//EN
CALSCALE:GREGORIAN
METHOD:PUBLISH
X-WR-CALNAME:UST Education
X-ORIGINAL-URL:https://usteducation.org
X-WR-CALDESC:Events for UST Education
REFRESH-INTERVAL;VALUE=DURATION:PT1H
X-Robots-Tag:noindex
X-PUBLISHED-TTL:PT1H
BEGIN:VTIMEZONE
TZID:America/New_York
BEGIN:DAYLIGHT
TZOFFSETFROM:-0500
TZOFFSETTO:-0400
TZNAME:EDT
DTSTART:20220313T070000
END:DAYLIGHT
BEGIN:STANDARD
TZOFFSETFROM:-0400
TZOFFSETTO:-0500
TZNAME:EST
DTSTART:20221106T060000
END:STANDARD
BEGIN:DAYLIGHT
TZOFFSETFROM:-0500
TZOFFSETTO:-0400
TZNAME:EDT
DTSTART:20230312T070000
END:DAYLIGHT
BEGIN:STANDARD
TZOFFSETFROM:-0400
TZOFFSETTO:-0500
TZNAME:EST
DTSTART:20231105T060000
END:STANDARD
BEGIN:DAYLIGHT
TZOFFSETFROM:-0500
TZOFFSETTO:-0400
TZNAME:EDT
DTSTART:20240310T070000
END:DAYLIGHT
BEGIN:STANDARD
TZOFFSETFROM:-0400
TZOFFSETTO:-0500
TZNAME:EST
DTSTART:20241103T060000
END:STANDARD
END:VTIMEZONE
BEGIN:VEVENT
DTSTART;TZID=America/New_York:20231204T130000
DTEND;TZID=America/New_York:20231204T140000
DTSTAMP:20260424T080934
CREATED:20230608T175150Z
LAST-MODIFIED:20231206T160834Z
UID:10000438-1701694800-1701698400@usteducation.org
SUMMARY:W459: How to Engage\, Communicate\, and Get More Out of Your Nonprofit Board Members
DESCRIPTION:COURSE DESCRIPTION: \nServing on a nonprofit organization’s Board of Directors can be a rewarding and often life-changing experience. Senior management for nonprofit organizations needs to be more active helping their Board members to learn how to be more effective during their Board service term helping Board members find and align their passion and capacity to serve while meeting the needs and expectations of the nonprofit organization they will represent. We will discuss three specific aspects of the Board member lifecycle: \n\nNew Board Member Planning and Preparation\nPathways to Effective Continuing Board Leadership\nPast Presidents and Retiring Board Members Can Be a Powerful Resource or a Missed Opportunity\n\n  \nLEARNING OBJECTIVES: \n\n– Learn about how to help new Board members to get off to a faster start and quickly learn how to be more effective during their first year of Board service.\n– How to take a proactive approach to help Board members to find a pathway for continuing their Board leadership roles and find leadership styles that meet their skills and time constraints.\n– We will discuss different tactics for how to optimize and consider continued using and finding interactive opportunities to use retiring Board members especially Past Presidents (Past Board Chairs) in a manner that brings enjoyment to the individual while helping the organization and not getting in the way of the current seated Board of directors.\n\n  \nResources and Source Articles and Two Series from the SE4N Website  \n\nNew Board Member Planning and Preparation\n\nServing on a nonprofit organization’s Board of Directors can be a rewarding and often life-changing experience. The first year of Board service will set the stage for the remainder of your time on the Board and directly affect opportunities for engagement\, impact\, visibility\, quality of experience\, and advancement.\nThis 4-part series aims to help new Board members set basic goals and develop realistic expectations for success during this critical early stage of their Board tenure.\n\n\n\n  \n\nPathways to Effective Board Leadership Series \n\nTo be an effective Board member you must consider how your own passion and capacity to serve align with the needs and expectations of the nonprofit organization you will represent.\nThis 4-part series will help you assess and choose the leadership path that is best aligned to the organization as well as yourself\, so that you will be in a position to complete your Board service without regrets or second guesses.\n\n\n\n  \n\nPast Presidents Can Be a Powerful Resource or a Missed Opportunity\n\nI have looked at many lists of Past Presidents for nonprofit organizations and been amazed by the roster of names\, but I am often disappointed at how many Past Presidents have become lost connections. High performing nonprofits keep their Past Presidents engaged and connected with meaningful active roles that are thoughtful and strategic.\nThe position of President or Board Chair is usually short-term however the title of Past President lasts a lifetime. We can learn from the organizations that put a high value on this important resource and have worked to maintain a long-term connection with their Past Presidents. Common themes and tactics used include a strong emphasis on continuing service\, active use of their knowledge\, support and network\, and amplification of their voice as spokespersons and ambassadors.\nContinuing service is a key point of emphasis. Organizations need to develop guidelines for active continuing engagement of Presidents after their terms expire and/or following completion of their term as Immediate Past President. Engagement must be active and regular\, driving home the point that Past Presidents will have a meaningful continuing service role. These roles can be divided into two categories: ceremonial roles and specific functions.\n\n\n\nTo Watch this Webinar on the Media Library CLICK HERE!
URL:https://usteducation.org/event/w459-how-to-engage-communicate-and-get-more-out-of-your-nonprofit-board-members/
LOCATION:https://zoom.us/j/99905779596
CATEGORIES:ASSOCIATIONS & NONPROFITS
ATTACH;FMTTYPE=image/png:https://usteducation.org/wp-content/uploads/2023/06/Paul-.png
END:VEVENT
BEGIN:VEVENT
DTSTART;TZID=America/New_York:20231205T110000
DTEND;TZID=America/New_York:20231205T120000
DTSTAMP:20260424T080934
CREATED:20230830T204831Z
LAST-MODIFIED:20231206T155656Z
UID:10000469-1701774000-1701777600@usteducation.org
SUMMARY:W470: Common Audit Findings\, the Internal Control Issues Behind Them\, and How to Respond
DESCRIPTION:COURSE DESCRIPTION: \nNobody likes receiving findings during their audit\, and *most* auditors don’t take pleasure in delivering them. In this session we’ll discuss audit findings such as absent documentation\, errors in the financial closing process\, and common accounting errors within nonprofit organizations. We’ll also explore the internal control issues that lie beneath the surface and give rise to audit findings. Finally\, we’ll plot a course for responding to and reducing recurrences of findings during your audit. Nobody can guarantee a “clean audit”\, but we’ll work together in this session to build a framework for continuous improvement and oversight that will strengthen your organization’s internal controls. \n  \nLEARNING OBJECTIVES: \n\n– Learn about common audit findings for nonprofit organizations.\n– Learn what an auditor looks for when assessing internal controls.\n– Learn how to use a response to audit findings as a springboard for implementing improvements.\n\nTo Watch this Webinar on the Media Library CLICK HERE!
URL:https://usteducation.org/event/w470-common-audit-findings-the-internal-control-issues-behind-them-and-how-to-respond/
LOCATION:https://zoom.us/j/91232747799
CATEGORIES:ASSOCIATIONS & NONPROFITS
ATTACH;FMTTYPE=image/png:https://usteducation.org/wp-content/uploads/2023/08/Will-1-1.png
END:VEVENT
BEGIN:VEVENT
DTSTART;TZID=America/New_York:20231205T130000
DTEND;TZID=America/New_York:20231205T140000
DTSTAMP:20260424T080934
CREATED:20230315T181503Z
LAST-MODIFIED:20231211T153857Z
UID:10000391-1701781200-1701784800@usteducation.org
SUMMARY:W436: Understanding Unrelated Business Income
DESCRIPTION:COURSE DESCRIPTION: \nMany tax-exempt organizations are surprised to learn that they may have a tax liability due to certain business activities. This session will provide a survey-level view of the tax on unrelated business income (UBI)\, and how it relates to tax exempt organizations. We will explore the legislative\, judicial\, and regulatory history of UBI to develop a better understanding of how UBI fits into the tax-exempt sector\, and in the process explore strategies to reduce the tax impact to your organization. Soon! \n  \nLEARNING OBJECTIVES: \n\n– Understand the conceptual history of the tax on unrelated business income\n– Learn about the various types of UBI\, and how to identify potential sources of UBI in your organization\n– Discover strategies to accurately report UBI in order to most effectively utilize your organization’s resources\n\nTo Watch this Webinar on the Media Library CLICK HERE!
URL:https://usteducation.org/event/w436-understanding-unrelated-business-income/
LOCATION:https://zoom.us/j/95924453701
CATEGORIES:ASSOCIATIONS & NONPROFITS
ATTACH;FMTTYPE=image/png:https://usteducation.org/wp-content/uploads/2023/03/Calvin-1-1.png
ORGANIZER;CN="J. Calvin Marks%2C CPA":MAILTO:cmarks@johnsonlambert.com
END:VEVENT
BEGIN:VEVENT
DTSTART;TZID=America/New_York:20231206T110000
DTEND;TZID=America/New_York:20231206T120000
DTSTAMP:20260424T080934
CREATED:20230608T180215Z
LAST-MODIFIED:20231211T155931Z
UID:10000439-1701860400-1701864000@usteducation.org
SUMMARY:W460: Common Errors in Nonprofit Revenue Recognition and How to Avoid Them
DESCRIPTION:COURSE DESCRIPTION: \nThis session with include examples of the most common issues we see as auditors with nonprofit revenue recognition. This includes accounting\, presentation\, and disclosure issues and errors that are commonly missed by nonprofits. The session with include processes and controls that could be implemented to prevent these error from happening. \n  \nLEARNING OBJECTIVES: \n\n– Review common accounting and reporting issues in nonprofit revenue recognition\n– Understand the cause of these errors\n– Review best practices and ways to avoid these common errors\n\nTo Watch this Webinar on the Media Library CLICK HERE!
URL:https://usteducation.org/event/w460-common-errors-in-nonprofit-revenue-recognition-and-how-to-avoid-them/
LOCATION:https://zoom.us/j/93046575271
CATEGORIES:ASSOCIATIONS & NONPROFITS
ATTACH;FMTTYPE=image/png:https://usteducation.org/wp-content/uploads/2023/06/Mark-1.png
END:VEVENT
END:VCALENDAR