BEGIN:VCALENDAR
VERSION:2.0
PRODID:-//UST Education - ECPv6.15.20//NONSGML v1.0//EN
CALSCALE:GREGORIAN
METHOD:PUBLISH
X-WR-CALNAME:UST Education
X-ORIGINAL-URL:https://usteducation.org
X-WR-CALDESC:Events for UST Education
REFRESH-INTERVAL;VALUE=DURATION:PT1H
X-Robots-Tag:noindex
X-PUBLISHED-TTL:PT1H
BEGIN:VTIMEZONE
TZID:America/New_York
BEGIN:DAYLIGHT
TZOFFSETFROM:-0500
TZOFFSETTO:-0400
TZNAME:EDT
DTSTART:20230312T070000
END:DAYLIGHT
BEGIN:STANDARD
TZOFFSETFROM:-0400
TZOFFSETTO:-0500
TZNAME:EST
DTSTART:20231105T060000
END:STANDARD
BEGIN:DAYLIGHT
TZOFFSETFROM:-0500
TZOFFSETTO:-0400
TZNAME:EDT
DTSTART:20240310T070000
END:DAYLIGHT
BEGIN:STANDARD
TZOFFSETFROM:-0400
TZOFFSETTO:-0500
TZNAME:EST
DTSTART:20241103T060000
END:STANDARD
BEGIN:DAYLIGHT
TZOFFSETFROM:-0500
TZOFFSETTO:-0400
TZNAME:EDT
DTSTART:20250309T070000
END:DAYLIGHT
BEGIN:STANDARD
TZOFFSETFROM:-0400
TZOFFSETTO:-0500
TZNAME:EST
DTSTART:20251102T060000
END:STANDARD
END:VTIMEZONE
BEGIN:VEVENT
DTSTART;TZID=America/New_York:20240213T130000
DTEND;TZID=America/New_York:20240213T140000
DTSTAMP:20260424T044023
CREATED:20231207T153920Z
LAST-MODIFIED:20240722T173722Z
UID:10000496-1707829200-1707832800@usteducation.org
SUMMARY:Understanding Bank Reconciliations in Business Central
DESCRIPTION:COURSE DESCRIPTION: \nBank reconciliations are crucial for businesses to keep control of their cash balances. Over the last few years\, Microsoft has changed the way bank reconciliations work within Business Central.  During this session\, we’ll discuss how reconciliations work and how to import bank data into them. \n  \nLEARNING OBJECTIVES: \n\nUnderstand the bank reconciliation process in Business Central.\nUnderstand the changes to the bank reconciliation process introduced by Microsoft.\nLearn how to set up the data definitions needed to import bank statement detail into the reconciliation.\n\nTo Watch this Webinar on the Media Library CLICK HERE!
URL:https://usteducation.org/event/m348-understanding-bank-reconciliations-in-business-central/
LOCATION:https://zoom.us/j/99188586655
CATEGORIES:MICROSOFT DYNAMICS
ATTACH;FMTTYPE=image/png:https://usteducation.org/wp-content/uploads/2023/08/Dave24.png
ORGANIZER;CN="Dave Wiser":MAILTO:dave@dynamicsnorthwest.com
END:VEVENT
BEGIN:VEVENT
DTSTART;TZID=America/New_York:20240214T110000
DTEND;TZID=America/New_York:20240214T120000
DTSTAMP:20260424T044023
CREATED:20230608T190723Z
LAST-MODIFIED:20240422T160859Z
UID:10000442-1707908400-1707912000@usteducation.org
SUMMARY:Beyond Tradition: Association Transformation into Media Empires
DESCRIPTION:COURSE DESCRIPTION: \nIn the rapidly evolving digital landscape\, the lines between different sectors are blurring. Today\, associations are no longer just conveners; they have the potential to become media empires themselves. “Beyond Tradition: Association Transformation into Media Empires” is a dynamic and insightful webinar that will explore this shift in roles. This session will elucidate how associations can harness their unique expertise\, expansive networks\, and captivating narratives to transform into influential media entities. Join us as we journey through this transformation\, spotlighting the opportunities that lie ahead and the strategies to capitalize on them. Uncover the future of associations\, a future where you are the media mogul. \n  \nLEARNING OBJECTIVES: \n\nUnearth the potential of associations in becoming influential media entities: Understand how your unique knowledge\, vast networks\, and compelling stories can be leveraged to drive impactful narratives and shape public discourse.\nExplore key strategies for transformation: Learn the steps and best practices to transition your association from a traditional convener to a dynamic\, content-producing powerhouse.\nDiscover the opportunities this shift presents: Identify the potential benefits and challenges of such a transformation\, from increased reach and engagement to new revenue streams\, while learning how to navigate potential obstacles.\n\nTo Watch this Webinar on the Media Library CLICK HERE!
URL:https://usteducation.org/event/b192-beyond-tradition-association-transformation-into-media-empires/
LOCATION:https://zoom.us/j/98588079528
CATEGORIES:Association IT,ASSOCIATIONS & NONPROFITS,Business Strategy,Data Management,Growth/Sales,Marketing/Member Engagement
ATTACH;FMTTYPE=image/png:https://usteducation.org/wp-content/uploads/2023/08/Bill24.png
ORGANIZER;CN="Bill McGlade":MAILTO:bmcglade@epiqcreativegroup.com
END:VEVENT
BEGIN:VEVENT
DTSTART;TZID=America/New_York:20240214T130000
DTEND;TZID=America/New_York:20240214T140000
DTSTAMP:20260424T044023
CREATED:20230825T161128Z
LAST-MODIFIED:20240531T205207Z
UID:10000466-1707915600-1707919200@usteducation.org
SUMMARY:Mastering Memorable Online Experiences: A Budget-Friendly Blueprint
DESCRIPTION:COURSE DESCRIPTION: \n\n\n\n\nUnlock the secrets to hosting unforgettable online experiences! If you’ve ever envied other associations’ cool activities but felt constrained by your budget or time\, fear not. Join us for insights on navigating fun & interactive events\, conferences\, career fairs\, learning sessions\, and award presentations online – fully satisfying\, unique\, and within budget. Don’t miss out on mastering the art of virtual excellence! \n\n\n\n\n  \nLEARNING OBJECTIVES: \n\n\n\n\n\n\nUnderstand effective strategies for delivering engaging and memorable online experiences\, overcoming budgetary constraints and time limitations. \n\n\nGain insights into adapting traditional activities such as career fairs\, interactive events\, and award presentations to the online environment. \n\n\nLearn practical tips and actionable steps to create unique\, impactful virtual experiences that resonate with your audience and align with your association’s goals. \n\n\nTo Watch this Webinar on the Media Library CLICK HERE!
URL:https://usteducation.org/event/b202-mastering-memorable-online-experiences-a-budget-friendly-blueprint/
LOCATION:https://zoom.us/j/95270242946
CATEGORIES:ASSOCIATIONS & NONPROFITS,Business Strategy,Culture/Communication,Marketing/Member Engagement
ATTACH;FMTTYPE=image/png:https://usteducation.org/wp-content/uploads/2023/08/Barbara24.png
ORGANIZER;CN="Sandra Nam":MAILTO:sandra@qiqochat.com
END:VEVENT
END:VCALENDAR