BEGIN:VCALENDAR
VERSION:2.0
PRODID:-//UST Education - ECPv6.15.20//NONSGML v1.0//EN
CALSCALE:GREGORIAN
METHOD:PUBLISH
X-WR-CALNAME:UST Education
X-ORIGINAL-URL:https://usteducation.org
X-WR-CALDESC:Events for UST Education
REFRESH-INTERVAL;VALUE=DURATION:PT1H
X-Robots-Tag:noindex
X-PUBLISHED-TTL:PT1H
BEGIN:VTIMEZONE
TZID:America/New_York
BEGIN:DAYLIGHT
TZOFFSETFROM:-0500
TZOFFSETTO:-0400
TZNAME:EDT
DTSTART:20230312T070000
END:DAYLIGHT
BEGIN:STANDARD
TZOFFSETFROM:-0400
TZOFFSETTO:-0500
TZNAME:EST
DTSTART:20231105T060000
END:STANDARD
BEGIN:DAYLIGHT
TZOFFSETFROM:-0500
TZOFFSETTO:-0400
TZNAME:EDT
DTSTART:20240310T070000
END:DAYLIGHT
BEGIN:STANDARD
TZOFFSETFROM:-0400
TZOFFSETTO:-0500
TZNAME:EST
DTSTART:20241103T060000
END:STANDARD
BEGIN:DAYLIGHT
TZOFFSETFROM:-0500
TZOFFSETTO:-0400
TZNAME:EDT
DTSTART:20250309T070000
END:DAYLIGHT
BEGIN:STANDARD
TZOFFSETFROM:-0400
TZOFFSETTO:-0500
TZNAME:EST
DTSTART:20251102T060000
END:STANDARD
END:VTIMEZONE
BEGIN:VEVENT
DTSTART;TZID=America/New_York:20240228T110000
DTEND;TZID=America/New_York:20240228T120000
DTSTAMP:20260423T235359
CREATED:20240123T195601Z
LAST-MODIFIED:20240425T135030Z
UID:10000536-1709118000-1709121600@usteducation.org
SUMMARY:Marketing and Membership Survival Guide
DESCRIPTION:COURSE DESCRIPTION: \nIn the Marketing and Membership Survival Guide\, we will look at communicating through a new lens. This very active and hands-on session is going to teach and encourage you to look at things a little differently so you are thriving in connecting and engaging with your members. We will be taking a pause to better understand the psychology of how people are engaging with content and trying something a little different based on YOUR strengths. \n  \nLEARNING OBJECTIVES: \n\nUnderstand the psychology of messaging\nTap into YOUR personal marketing and storytelling superpowers to attract your ideal audience\nExplore messaging that shares your mission\, vision\, thoughts\, and expertise that turns heads and stops the scroll.\n\nTo Watch this Webinar on the Media Library CLICK HERE!
URL:https://usteducation.org/event/w501-marketing-and-membership-survival-guide/
LOCATION:zoom.us/j/98449644781
CATEGORIES:ASSOCIATIONS & NONPROFITS,Business Strategy,Culture/Communication,Marketing/Member Engagement
ATTACH;FMTTYPE=image/png:https://usteducation.org/wp-content/uploads/2024/01/Erica24.png
END:VEVENT
BEGIN:VEVENT
DTSTART;TZID=America/New_York:20240229T130000
DTEND;TZID=America/New_York:20240229T140000
DTSTAMP:20260423T235359
CREATED:20240105T195644Z
LAST-MODIFIED:20240425T135529Z
UID:10000521-1709211600-1709215200@usteducation.org
SUMMARY:Spring Into Savings
DESCRIPTION:COURSE DESCRIPTION: \nAre you looking to save jobs or reduce unnecessary expenses? ARG’s upcoming Cost Optimization Event can help! \n Expert Speakers: Gain insights from industry leaders who have mastered the art of cost optimization.  Practical Strategies: Discover actionable tips and strategies to cut costs without compromising quality.  Real-World Case Studies: Learn from successful businesses that have significantly improved their bottom line through optimization. \nJoin us February 29th to find out how we find and implement millions of $ in cost savings for clients. \n  \nLEARNING OBJECTIVES: \n\nGain insights from industry leaders who have mastered the art of cost optimization\nDiscover actionable tips and strategies to cut costs without compromising quality\nLearn from successful businesses that have significantly improved their bottom line through optimization.\n\nTo Watch this Webinar on the Media Library CLICK HERE!
URL:https://usteducation.org/event/b209-spring-into-savings/
LOCATION:https://zoom.us/j/98434879837
CATEGORIES:B2B/B2G,B2B/B2G IT,Business Strategy,Data Management,Finance
ATTACH;FMTTYPE=image/png:https://usteducation.org/wp-content/uploads/2024/01/Patrick24.png
END:VEVENT
END:VCALENDAR