BEGIN:VCALENDAR
VERSION:2.0
PRODID:-//UST Education - ECPv6.15.20//NONSGML v1.0//EN
CALSCALE:GREGORIAN
METHOD:PUBLISH
X-ORIGINAL-URL:https://usteducation.org
X-WR-CALDESC:Events for UST Education
REFRESH-INTERVAL;VALUE=DURATION:PT1H
X-Robots-Tag:noindex
X-PUBLISHED-TTL:PT1H
BEGIN:VTIMEZONE
TZID:America/New_York
BEGIN:DAYLIGHT
TZOFFSETFROM:-0500
TZOFFSETTO:-0400
TZNAME:EDT
DTSTART:20230312T070000
END:DAYLIGHT
BEGIN:STANDARD
TZOFFSETFROM:-0400
TZOFFSETTO:-0500
TZNAME:EST
DTSTART:20231105T060000
END:STANDARD
BEGIN:DAYLIGHT
TZOFFSETFROM:-0500
TZOFFSETTO:-0400
TZNAME:EDT
DTSTART:20240310T070000
END:DAYLIGHT
BEGIN:STANDARD
TZOFFSETFROM:-0400
TZOFFSETTO:-0500
TZNAME:EST
DTSTART:20241103T060000
END:STANDARD
BEGIN:DAYLIGHT
TZOFFSETFROM:-0500
TZOFFSETTO:-0400
TZNAME:EDT
DTSTART:20250309T070000
END:DAYLIGHT
BEGIN:STANDARD
TZOFFSETFROM:-0400
TZOFFSETTO:-0500
TZNAME:EST
DTSTART:20251102T060000
END:STANDARD
END:VTIMEZONE
BEGIN:VEVENT
DTSTART;TZID=America/New_York:20240305T130000
DTEND;TZID=America/New_York:20240305T140000
DTSTAMP:20260424T012047
CREATED:20231223T185202Z
LAST-MODIFIED:20240425T141049Z
UID:10000510-1709643600-1709647200@usteducation.org
SUMMARY:Drive Engagement Using Ancient Myth\, Social Media and User Generated Video
DESCRIPTION:COURSE DESCRIPTION: \nIn 1949\, Joseph Campbell published the book\, The Hero with a Thousand Faces. In it\, Campbell reveals his discovery that myths from around the world and for all of recorded history with powerful influence all followed a similar pattern – The Hero’s Journey. Today\, The Hero’s Journey powers your favorite movies and books\, and has become a key to modern marketing. In a world of intense technology change this ancient story framework can guide us to effective member engagement and communications. \n  \nLEARNING OBJECTIVES: \n\nWhere technology is going and why it matters for your organization.\nWhat is the Hero’s Journey and how it applies to companies\, products\, brands\, and member engagement.\nHow video content is dominating the online landscape and how that changes your strategy.\n How state-of-the-art tools and technology can give you access to the kinds of stories that move people to action.\n\nTo Watch this Webinar on the Media Library CLICK HERE!
URL:https://usteducation.org/event/w486-drive-engagement-using-ancient-myth-social-media-and-user-generated-video/
LOCATION:https://zoom.us/j/93760830898
CATEGORIES:ASSOCIATIONS & NONPROFITS,Culture/Communication,Marketing/Member Engagement
ATTACH;FMTTYPE=image/png:https://usteducation.org/wp-content/uploads/2023/12/Joel24.png
END:VEVENT
BEGIN:VEVENT
DTSTART;TZID=America/New_York:20240306T110000
DTEND;TZID=America/New_York:20240306T120000
DTSTAMP:20260424T012047
CREATED:20240105T205546Z
LAST-MODIFIED:20240425T142043Z
UID:10000524-1709722800-1709726400@usteducation.org
SUMMARY:Master Employee Onboarding with Thoughtful IT: Top 7 Tips
DESCRIPTION:COURSE DESCRIPTION: \nOne of the quickest ways to tarnish a new employee’s perception of your association is to throw them into a sloppy technology setup. \nAfter providing IT support to associations for 33 years we’ve become intimately familiar with employee on-boarding—and how technology will make or break the experience. As top talent becomes more and more difficult to attract and retain\, mastering this process becomes mission-critical. \nTo help give your new hires an overwhelmingly positive start to their tenure we’ve compiled the most important lessons we’ve learned from our experience. \n  \nLEARNING OBJECTIVES: \n\nIT’s critical role in a positive on-boarding experience\nBest practices to maximize productivity\, engagement\, and security\nEquipment recommendations to empower hybrid and remote workers\n\nTo Watch this Webinar on the Media Library CLICK HERE!
URL:https://usteducation.org/event/w504-master-employee-onboarding-with-thoughtful-it-top-7-tips/
LOCATION:https://zoom.us/j/92982579618
CATEGORIES:Association IT,ASSOCIATIONS & NONPROFITS,Data Management,Hiring/Retention/HR,Workplace
ATTACH;FMTTYPE=image/png:https://usteducation.org/wp-content/uploads/2024/01/Chris24.png
ORGANIZER;CN="Heinan Landa":MAILTO:hlanda@optimalnetworks.com
END:VEVENT
BEGIN:VEVENT
DTSTART;TZID=America/New_York:20240306T130000
DTEND;TZID=America/New_York:20240306T140000
DTSTAMP:20260424T012047
CREATED:20240105T213449Z
LAST-MODIFIED:20240425T142319Z
UID:10000530-1709730000-1709733600@usteducation.org
SUMMARY:Marketing in the AI Era: Tools and Techniques for Strategic Advantage
DESCRIPTION:COURSE DESCRIPTION: \nAre you eager to harness the power of AI in your marketing initiatives but unsure where to begin? This session is designed for marketers looking to seamlessly integrate next-gen AI technology into their strategies. \nDiscover a range of easy-to-use AI tools tailored for marketing\, membership\, and communication roles. Delve into an array of AI marketing tools\, from SEO optimization using NLP for enhanced semantic analysis and search volume insights\, to email tools that optimize content curation. We’ll also explore innovative solutions in content generation\, inline editing\, image creation\, and AI-driven audio editing tools. This session is the perfect gateway to leveraging AI for more efficient and effective marketing. \n  \nLEARNING OBJECTIVES: \n• Acquire a comprehensive understanding of the current landscape of Marketing AI.\n• Identify actionable Marketing AI tools to immediately enhance your marketing strategy.\n• Master the art of initiating straightforward Marketing AI experiments\, utilizing AI to streamline your processes and save time. \nTo Watch this Webinar on the Media Library CLICK HERE!
URL:https://usteducation.org/event/w500-marketing-in-the-ai-era-tools-and-techniques-for-strategic-advantage/
LOCATION:https://zoom.us/j/97254872936
CATEGORIES:ASSOCIATIONS & NONPROFITS,Business Strategy,Marketing/Member Engagement
ATTACH;FMTTYPE=image/png:https://usteducation.org/wp-content/uploads/2023/12/Erica24.png
ORGANIZER;CN="Erica Salm Rench%2C MBA":MAILTO:erica@sidecar.ai
END:VEVENT
BEGIN:VEVENT
DTSTART;TZID=America/New_York:20240307T110000
DTEND;TZID=America/New_York:20240307T120000
DTSTAMP:20260424T012047
CREATED:20231207T193426Z
LAST-MODIFIED:20240531T194353Z
UID:10000505-1709809200-1709812800@usteducation.org
SUMMARY:Empowering Nonprofits: Streamline Operations with Our Custom ERP Solution
DESCRIPTION:COURSE DESCRIPTION: \nIn today’s dynamic landscape\, numerous not-for-profit organizations seek to optimize their operations through the adoption of advanced ERP systems. This course delves into the core functionalities of Sylogist’s Mission ERP\, uniquely tailored to meet the specific needs of not-for-profit entities\, seamlessly integrated within Microsoft’s Business Central platform. \nParticipants will gain insights into why many organizations are transitioning to new ERPs\, whether due to outgrowing their existing systems or facing obsolescence with unsupported platforms. Through comprehensive exploration\, attendees will discover the transformative capabilities offered by Mission ERP\, providing a holistic understanding of its features\, modules\, and how it aligns with the operational intricacies of not-for-profit organizations. \nThis session offers practical demonstrations and real-world examples\, empowering participants to leverage Mission ERP effectively within their respective organizational contexts. Join us to unlock the potential and embark on a journey towards enhanced operational efficiency and strategic decision-making within the realm of not-for-profit management. \n  \nLEARNING OBJECTIVES: \n\nReview the Administrative Dashboard in Mission ERP\nDiscuss Setups for Fund & Net Asset Accounting\nDiscuss Deposits & Loans\nDiscuss Award & Grant Management\n\nTo Watch this Webinar on the Media Library CLICK HERE!
URL:https://usteducation.org/event/m352/
LOCATION:https://zoom.us/j/99707223583
CATEGORIES:ASSOCIATIONS & NONPROFITS,MICROSOFT DYNAMICS
ATTACH;FMTTYPE=image/png:https://usteducation.org/wp-content/uploads/2023/12/Robb24.png
ORGANIZER;CN="Robb Delprado":MAILTO:rdelprado@llConsultingservices.com
END:VEVENT
BEGIN:VEVENT
DTSTART;TZID=America/New_York:20240307T130000
DTEND;TZID=America/New_York:20240307T140000
DTSTAMP:20260424T012047
CREATED:20231207T192853Z
LAST-MODIFIED:20240429T224240Z
UID:10000504-1709816400-1709820000@usteducation.org
SUMMARY:Elevating Your Leadership: A Call to Learn from Your Team's Wisdom (Part 2 of 2)
DESCRIPTION:COURSE DESCRIPTION: \nWant to elevate your leadership skills in 2024? Before you start\, forget the conventional wisdom of learning only from those who lead—sometimes\, the most valuable insights come from those who are led.  \nJoin us for a dynamic two-part webinar series where we will explore original research of leaders who shifted the culture of their organization\, by elevating the leadership wisdom found in the often-unheard voices of those they were leading.  \nPart 1: Unveiling the Unsung Wisdom \nIn our first session\, we’ll explore why those being led are an often-overlooked source of invaluable leadership wisdom. Discover practical\, low-maintenance methods for leaders to glean meaningful insights without resorting to burdensome practices (large 360 reviews\, burdensome surveys\, etc.). We’ll uncover the untapped potential of learning from your team and preview key lessons for a more impactful leadership journey. \nPart 2: Lessons in a Case Study of Learning \nDive into leadership practices through original research focused on one organization that harnessed the wisdom of those they lead to elevate their culture and practice. This session serves as both a guide and a case study\, offering tangible takeaways and illustrating the profound wisdom leaders can extract from those they lead every day. \nBy the end of this series\, you’ll not only possess the tools to integrate lessons from your team but also gain an understanding of the transformative impact such an approach can have in your specific leadership context. Don’t just lead—lead with wisdom from all corners. \n  \nLEARNING OBJECTIVES: \n\nExplore eight characteristics of effective leadership distilled from an example with education professionals. \nIdentify the transferable elements within this wisdom\, that can enhance leadership effectiveness across diverse contexts. \nDraw inspiration from the examples\, showcasing how leaders can glean invaluable lessons from those they lead.\nCraft a personalized strategy to initiate and sustain a process of learning from your team.\n\nTo Watch this Webinar on the Media Library CLICK HERE!
URL:https://usteducation.org/event/b211-elevating-your-leadership-a-call-to-learn-from-your-teams-wisdom-part-2-of-2/
LOCATION:https://zoom.us/j/96742308010
CATEGORIES:ASSOCIATIONS & NONPROFITS,B2B/B2G,Business Strategy,Culture & Communication,Culture/Communication
ATTACH;FMTTYPE=image/png:https://usteducation.org/wp-content/uploads/2023/08/Ryan23.png
END:VEVENT
END:VCALENDAR