BEGIN:VCALENDAR
VERSION:2.0
PRODID:-//UST Education - ECPv6.15.20//NONSGML v1.0//EN
CALSCALE:GREGORIAN
METHOD:PUBLISH
X-WR-CALNAME:UST Education
X-ORIGINAL-URL:https://usteducation.org
X-WR-CALDESC:Events for UST Education
REFRESH-INTERVAL;VALUE=DURATION:PT1H
X-Robots-Tag:noindex
X-PUBLISHED-TTL:PT1H
BEGIN:VTIMEZONE
TZID:America/New_York
BEGIN:DAYLIGHT
TZOFFSETFROM:-0500
TZOFFSETTO:-0400
TZNAME:EDT
DTSTART:20230312T070000
END:DAYLIGHT
BEGIN:STANDARD
TZOFFSETFROM:-0400
TZOFFSETTO:-0500
TZNAME:EST
DTSTART:20231105T060000
END:STANDARD
BEGIN:DAYLIGHT
TZOFFSETFROM:-0500
TZOFFSETTO:-0400
TZNAME:EDT
DTSTART:20240310T070000
END:DAYLIGHT
BEGIN:STANDARD
TZOFFSETFROM:-0400
TZOFFSETTO:-0500
TZNAME:EST
DTSTART:20241103T060000
END:STANDARD
BEGIN:DAYLIGHT
TZOFFSETFROM:-0500
TZOFFSETTO:-0400
TZNAME:EDT
DTSTART:20250309T070000
END:DAYLIGHT
BEGIN:STANDARD
TZOFFSETFROM:-0400
TZOFFSETTO:-0500
TZNAME:EST
DTSTART:20251102T060000
END:STANDARD
END:VTIMEZONE
BEGIN:VEVENT
DTSTART;TZID=America/New_York:20240515T110000
DTEND;TZID=America/New_York:20240515T120000
DTSTAMP:20260424T091539
CREATED:20240328T205718Z
LAST-MODIFIED:20240515T185334Z
UID:10000540-1715770800-1715774400@usteducation.org
SUMMARY:How to do a Finance Assessment & Find Process Improvement
DESCRIPTION:COURSE DESCRIPTION: \nDo you feel like your accounting and finance team is stressed\, overworked\, not accomplishing the tasks that need to get done to move your organization forward?  Do you think you know some ways to make the situation better\, but cannot quite figure out if it is right or how to execute on the changes needed?  If so\, then this session is for you.  Jared and Colleen will discuss signs of needing a Team Assessment\, how to approach the assessment with team members\, ideal times to perform the assessment\, and steps performed during an assessment.  They will review the types of observations that may come out of an assessment along with recommendations\, including new organization charts.   \n  \nLEARNING OBJECTIVES: \n\nIdentifying when your Department might benefit from an assessment\nDiscuss how to approach the assessment to achieve the greatest participation and maximize the benefits to your Department and Organization\nReview the steps taken during a Team assessment to review workload\, Team structure\, internal control environment\, effectiveness\, and efficiency.\nProvide examples of observations and recommendations identified in a Team assessment\, including organization charts.\nDiscuss how to implement recommendations and new organization charts and to make the hard decisions and implementations needed to make a successful change in your Department.\n\nTo Watch this Webinar in Media Library CLICK HERE!
URL:https://usteducation.org/event/w502-how-to-do-a-finance-assessment-find-process-improvement/
LOCATION:https://zoom.us/j/92096262933
CATEGORIES:ASSOCIATIONS & NONPROFITS
ATTACH;FMTTYPE=image/png:https://usteducation.org/wp-content/uploads/2024/03/ColleenJared24.png
ORGANIZER;CN="Colleen Smith":MAILTO:colleen@oconnorcs.com
END:VEVENT
BEGIN:VEVENT
DTSTART;TZID=America/New_York:20240516T130000
DTEND;TZID=America/New_York:20240516T140000
DTSTAMP:20260424T091539
CREATED:20240328T162522Z
LAST-MODIFIED:20240516T200221Z
UID:10000565-1715864400-1715868000@usteducation.org
SUMMARY:Implementing AI Tools for Marketers & Advertisers
DESCRIPTION:COURSE DESCRIPTION: \nAs global markets evolve\, the integration of AI into advertising strategies becomes not just an option but a necessity for staying competitive. Are you a forward-thinking marketer at the helm of digital transformation in your organization? Whether you’re just starting out or looking to deepen your existing knowledge\, this session is tailored for those eager to harness the power of AI. \nThis workshop will introduce you to a selection of intuitive\, powerful AI tools designed specifically for the unique challenges of marketing & advertising. These tools are crafted to enhance your effectiveness in marketing\, advertising\, and communications across diverse members and markets. \n  \nLEARNING OBJECTIVES: \n· Search Optimization Optimization: Employ NLP technologies for semantic-powered optimization and gain insights into global search trends and volume recommendations.\n· AI-Driven Email Strategies: Learn how AI can significantly improve the timing and content of your emails\, ensuring optimal engagement.\n· Content Generation at Scale: Explore AI solutions for creating and editing textual and visual content that resonates with any audience and maintains brand consistency across borders.\n· Dynamic Imaging Tools: Discover AI applications that automate the generation and refinement of visual content\, catering to cultural nuances and preferences.\n· Sophisticated Audio Editing: Use AI to enhance your campaigns’ auditory elements\, from podcasts to multimedia advertisements. \nTo Watch this Webinar on the Media Library CLICK HERE! 
URL:https://usteducation.org/event/w516-implementing-ai-tools-for-marketers-advertisers/
LOCATION:https://zoom.us/j/97097959671
CATEGORIES:ASSOCIATIONS & NONPROFITS
ATTACH;FMTTYPE=image/png:https://usteducation.org/wp-content/uploads/2023/12/Erica24.png
ORGANIZER;CN="Erica Salm Rench%2C MBA":MAILTO:erica@sidecar.ai
END:VEVENT
END:VCALENDAR