BEGIN:VCALENDAR
VERSION:2.0
PRODID:-//UST Education - ECPv6.15.20//NONSGML v1.0//EN
CALSCALE:GREGORIAN
METHOD:PUBLISH
X-WR-CALNAME:UST Education
X-ORIGINAL-URL:https://usteducation.org
X-WR-CALDESC:Events for UST Education
REFRESH-INTERVAL;VALUE=DURATION:PT1H
X-Robots-Tag:noindex
X-PUBLISHED-TTL:PT1H
BEGIN:VTIMEZONE
TZID:America/New_York
BEGIN:DAYLIGHT
TZOFFSETFROM:-0500
TZOFFSETTO:-0400
TZNAME:EDT
DTSTART:20200308T070000
END:DAYLIGHT
BEGIN:STANDARD
TZOFFSETFROM:-0400
TZOFFSETTO:-0500
TZNAME:EST
DTSTART:20201101T060000
END:STANDARD
BEGIN:DAYLIGHT
TZOFFSETFROM:-0500
TZOFFSETTO:-0400
TZNAME:EDT
DTSTART:20210314T070000
END:DAYLIGHT
BEGIN:STANDARD
TZOFFSETFROM:-0400
TZOFFSETTO:-0500
TZNAME:EST
DTSTART:20211107T060000
END:STANDARD
BEGIN:DAYLIGHT
TZOFFSETFROM:-0500
TZOFFSETTO:-0400
TZNAME:EDT
DTSTART:20220313T070000
END:DAYLIGHT
BEGIN:STANDARD
TZOFFSETFROM:-0400
TZOFFSETTO:-0500
TZNAME:EST
DTSTART:20221106T060000
END:STANDARD
BEGIN:DAYLIGHT
TZOFFSETFROM:-0500
TZOFFSETTO:-0400
TZNAME:EDT
DTSTART:20230312T070000
END:DAYLIGHT
BEGIN:STANDARD
TZOFFSETFROM:-0400
TZOFFSETTO:-0500
TZNAME:EST
DTSTART:20231105T060000
END:STANDARD
END:VTIMEZONE
BEGIN:VEVENT
DTSTART;TZID=America/New_York:20220524T150000
DTEND;TZID=America/New_York:20220524T163000
DTSTAMP:20260421T041952
CREATED:20220517T163320Z
LAST-MODIFIED:20240531T204832Z
UID:10000086-1653404400-1653409800@usteducation.org
SUMMARY:Top Benefits of Benchmarking for Employee Retention
DESCRIPTION:View Recorded Webinar \nListen to the Podcast \nDuring this session you will get an overview of benefits benchmarking. We’ll cover the impact how your employee benefits can influence employee retention and talent acquisition. We’ll discuss\, costs\, plan designs and various other key metrics to be aware of. \n\n\n\n\nLEARNING OBJECTIVES\n\n\nUnderstanding the importance of benefits benchmarking\nDetermining strategy for making change within your benefits package\nCorrelating employee benefits with talent acquisition and retention
URL:https://usteducation.org/event/top-benefits-of-benchmarking-for-employee-retention/
LOCATION:Group Internet-Based
CATEGORIES:ASSOCIATIONS & NONPROFITS,B2B/B2G,Business Strategy,Business Strategy,Culture & Communication,Culture/Communication,Hiring/Retention/HR,Hiring/Retention/HR
ATTACH;FMTTYPE=image/png:https://usteducation.org/wp-content/uploads/2022/05/W281website.png
END:VEVENT
BEGIN:VEVENT
DTSTART;TZID=America/New_York:20211006T150000
DTEND;TZID=America/New_York:20211006T163000
DTSTAMP:20260421T041952
CREATED:20220328T190413Z
LAST-MODIFIED:20220713T033342Z
UID:10000063-1633532400-1633537800@usteducation.org
SUMMARY:W210: How Employee Benefits Impact Hiring & Retaining
DESCRIPTION:During the presentation you will hear some keys to attracting and retaining top talent. In addition\, we will review tools to get employee engagement\, increase benefits awareness and manage rising insurance costs.\n\n\n\n\n\n \n\n\n\n\n\n\n\n\n\n\nLEARNING OBJECTIVES \n\n\n\nEmployee benefits that most impact employees\nSoft benefits that you may not be maximizing\nTools that gain employee engagement
URL:https://usteducation.org/event/w210-how-employee-benefits-impact-hiring-retaining/
LOCATION:Group Internet-Based
CATEGORIES:ASSOCIATIONS & NONPROFITS
ATTACH;FMTTYPE=image/png:https://usteducation.org/wp-content/uploads/2022/03/BACKLOG-FOR-RELAUNCH-Eli-website-1200X600-px-22.png
END:VEVENT
END:VCALENDAR