BEGIN:VCALENDAR
VERSION:2.0
PRODID:-//UST Education - ECPv6.15.20//NONSGML v1.0//EN
CALSCALE:GREGORIAN
METHOD:PUBLISH
X-ORIGINAL-URL:https://usteducation.org
X-WR-CALDESC:Events for UST Education
REFRESH-INTERVAL;VALUE=DURATION:PT1H
X-Robots-Tag:noindex
X-PUBLISHED-TTL:PT1H
BEGIN:VTIMEZONE
TZID:America/New_York
BEGIN:DAYLIGHT
TZOFFSETFROM:-0500
TZOFFSETTO:-0400
TZNAME:EDT
DTSTART:20210314T070000
END:DAYLIGHT
BEGIN:STANDARD
TZOFFSETFROM:-0400
TZOFFSETTO:-0500
TZNAME:EST
DTSTART:20211107T060000
END:STANDARD
BEGIN:DAYLIGHT
TZOFFSETFROM:-0500
TZOFFSETTO:-0400
TZNAME:EDT
DTSTART:20220313T070000
END:DAYLIGHT
BEGIN:STANDARD
TZOFFSETFROM:-0400
TZOFFSETTO:-0500
TZNAME:EST
DTSTART:20221106T060000
END:STANDARD
BEGIN:DAYLIGHT
TZOFFSETFROM:-0500
TZOFFSETTO:-0400
TZNAME:EDT
DTSTART:20230312T070000
END:DAYLIGHT
BEGIN:STANDARD
TZOFFSETFROM:-0400
TZOFFSETTO:-0500
TZNAME:EST
DTSTART:20231105T060000
END:STANDARD
BEGIN:DAYLIGHT
TZOFFSETFROM:-0500
TZOFFSETTO:-0400
TZNAME:EDT
DTSTART:20240310T070000
END:DAYLIGHT
BEGIN:STANDARD
TZOFFSETFROM:-0400
TZOFFSETTO:-0500
TZNAME:EST
DTSTART:20241103T060000
END:STANDARD
BEGIN:DAYLIGHT
TZOFFSETFROM:-0500
TZOFFSETTO:-0400
TZNAME:EDT
DTSTART:20250309T070000
END:DAYLIGHT
BEGIN:STANDARD
TZOFFSETFROM:-0400
TZOFFSETTO:-0500
TZNAME:EST
DTSTART:20251102T060000
END:STANDARD
END:VTIMEZONE
BEGIN:VEVENT
DTSTART;TZID=America/New_York:20240730T110000
DTEND;TZID=America/New_York:20240730T120000
DTSTAMP:20260425T072215
CREATED:20240627T203537Z
LAST-MODIFIED:20240730T182323Z
UID:10000594-1722337200-1722340800@usteducation.org
SUMMARY:AI Use Cases for Now and Later: Insights and Forecasts from Association CIOs
DESCRIPTION:Course Description: \nLet’s pull back the curtain on artificial intelligence in action to discover how AI is reshaping member services\, streamlining operations\, and driving innovation in associations today. Our panel of association CIOs will share real-world examples of AI implementation\, discuss challenges they’ve overcome\, and offer their visions for AI’s future role in association management. Whether you’re AI-curious or already on the cutting edge\, this session will equip you with practical insights and inspire new possibilities for leveraging AI in your organization. \n  \nLearning Objectives: \n\nCurrent AI Applications: Learn about successful AI use cases already transforming association operations and member experiences.\nImplementation Strategies: Gain insights into effective approaches for introducing and scaling AI within association environments.\nChallenges and Solutions: Understand common hurdles in AI adoption and how leading CIOs have overcome them.\nFuture Trends: Explore emerging AI technologies and applications poised to impact associations in the coming years.\n\nTo Watch this Webinar on the Media Library CLICK HERE!
URL:https://usteducation.org/event/ai-use-cases-for-now-and-later-insights-and-forecasts-from-association-cios/
CATEGORIES:Association IT,ASSOCIATIONS & NONPROFITS
ATTACH;FMTTYPE=image/png:https://usteducation.org/wp-content/uploads/2024/06/ThadGayathriKapil24-1.png
ORGANIZER;CN="Gayathri Kher":MAILTO:https://www.linkedin.com/in/fusionspan/
LOCATION:https://usteducation.org/event/ai-use-cases-for-now-and-later-insights-and-forecasts-from-association-cios/
END:VEVENT
BEGIN:VEVENT
DTSTART;TZID=America/New_York:20221027T130000
DTEND;TZID=America/New_York:20221027T140000
DTSTAMP:20260425T072215
CREATED:20220914T164301Z
LAST-MODIFIED:20221025T184332Z
UID:10000195-1666875600-1666879200@usteducation.org
SUMMARY:W340: How You Can Use Salesforce for No Cost as a Nonprofit
DESCRIPTION:COURSE DESCRIPTION: \nSalesforce is the world’s #1 CRM platform with a wide range of apps\, integration capabilities and providing a single source of truth for your organization’s data. In our upcoming webinar “How You Can Use Salesforce for No Cost as a Nonprofit” our panel will be discussing how Nonprofits can leverage Salesforce’s Power of Us Grant & NPSP to begin utilizing the power of Salesforce for no cost to the nonprofit itself. Join us on DATE to learn about how Salesforce supports Nonprofits with it’s Nonprofit Success Starter Pack(NPSP) and how your organization can start it’s digital transformation at no cost. \n  \nLEARNING OBJECTIVES: \n\nLearn what Salesforce is.\nLearn how NPSP & the Power of Us Grant supports Nonprofits.\nLearn how your can organization get started with NPSP\, what the common use cases are for nonprofits and how to become more comfortable with Salesforce.
URL:https://usteducation.org/event/w340-how-you-can-use-salesforce-for-no-cost-as-a-nonprofit/
LOCATION:https://zoom.us/j/98999660553
CATEGORIES:ASSOCIATIONS & NONPROFITS
ATTACH;FMTTYPE=image/png:https://usteducation.org/wp-content/uploads/2022/09/RECENT-websiteemail-Graphics-1200X600-px-2.png
END:VEVENT
END:VCALENDAR