BEGIN:VCALENDAR
VERSION:2.0
PRODID:-//UST Education - ECPv6.15.20//NONSGML v1.0//EN
CALSCALE:GREGORIAN
METHOD:PUBLISH
X-WR-CALNAME:UST Education
X-ORIGINAL-URL:https://usteducation.org
X-WR-CALDESC:Events for UST Education
REFRESH-INTERVAL;VALUE=DURATION:PT1H
X-Robots-Tag:noindex
X-PUBLISHED-TTL:PT1H
BEGIN:VTIMEZONE
TZID:America/New_York
BEGIN:DAYLIGHT
TZOFFSETFROM:-0500
TZOFFSETTO:-0400
TZNAME:EDT
DTSTART:20220313T070000
END:DAYLIGHT
BEGIN:STANDARD
TZOFFSETFROM:-0400
TZOFFSETTO:-0500
TZNAME:EST
DTSTART:20221106T060000
END:STANDARD
BEGIN:DAYLIGHT
TZOFFSETFROM:-0500
TZOFFSETTO:-0400
TZNAME:EDT
DTSTART:20230312T070000
END:DAYLIGHT
BEGIN:STANDARD
TZOFFSETFROM:-0400
TZOFFSETTO:-0500
TZNAME:EST
DTSTART:20231105T060000
END:STANDARD
BEGIN:DAYLIGHT
TZOFFSETFROM:-0500
TZOFFSETTO:-0400
TZNAME:EDT
DTSTART:20240310T070000
END:DAYLIGHT
BEGIN:STANDARD
TZOFFSETFROM:-0400
TZOFFSETTO:-0500
TZNAME:EST
DTSTART:20241103T060000
END:STANDARD
END:VTIMEZONE
BEGIN:VEVENT
DTSTART;TZID=America/New_York:20230608T111500
DTEND;TZID=America/New_York:20230608T121500
DTSTAMP:20260421T061847
CREATED:20230330T182733Z
LAST-MODIFIED:20231013T174452Z
UID:10000404-1686222900-1686226500@usteducation.org
SUMMARY:Legacy System Modernization | Systems for New Technology & AI
DESCRIPTION:COURSE DESCRIPTION: \nAre you looking to modernize your association or non-profit’s technology platform? With hybrid work becoming the new norm for many\, effective hybrid collaboration is more important than ever. The pandemic jump-started an already existing trend towards remote and hybrid models of work\, and there’s no sign that it’s slowing down.   \nWhile hybrid work is preferred by many employees and employers\, it’s not without its challenges. Collaboration\, especially asynchronous collaboration\, remains a challenge. In addition\, the increase in endpoints and personal devices being used remotely challenges the security of hybrid work.  Many organizations have been demanding increased functionality from their legacy software\, but adding features and upgrades often requires significant investment.  \nWith all these changes\, organizations with an outdated legacy system can experience hindered productivity.  By utilizing modern technology and AI\, you can take your organization from Legacy to Modern with the results of cost savings\, increased efficiency and enablement so that you have more time on tasks at hand. You won’t just save money but also improve how quickly tasks can be accomplished. ML and AI are shaping the future of communications\, and the number of AI tools we use in our daily lives has grown exponentially\, and now people increasingly understand that AI and ML are the future.  \n  \nLEARNING OBJECTIVES: \n\n– How AI/ML can do more with less and help move your organization from Legacy to Modern\n– How to transition from legacy systems while remaining cost efficient and increasing productivity\n– How to create efficiencies and demystify your options in modernizing legacy platforms
URL:https://usteducation.org/event/legacy-system-modernization-systems-for-new-technology-ai/
LOCATION:https://zoom.us/j/91230991943
CATEGORIES:ASSOCIATIONS & NONPROFITS
ATTACH;FMTTYPE=image/png:https://usteducation.org/wp-content/uploads/2023/03/SuS23-1.png
ORGANIZER;CN="Ali Niroo":MAILTO:ali@bpt3.net
END:VEVENT
END:VCALENDAR