BEGIN:VCALENDAR
VERSION:2.0
PRODID:-//UST Education - ECPv6.15.20//NONSGML v1.0//EN
CALSCALE:GREGORIAN
METHOD:PUBLISH
X-WR-CALNAME:UST Education
X-ORIGINAL-URL:https://usteducation.org
X-WR-CALDESC:Events for UST Education
REFRESH-INTERVAL;VALUE=DURATION:PT1H
X-Robots-Tag:noindex
X-PUBLISHED-TTL:PT1H
BEGIN:VTIMEZONE
TZID:America/New_York
BEGIN:DAYLIGHT
TZOFFSETFROM:-0500
TZOFFSETTO:-0400
TZNAME:EDT
DTSTART:20200308T070000
END:DAYLIGHT
BEGIN:STANDARD
TZOFFSETFROM:-0400
TZOFFSETTO:-0500
TZNAME:EST
DTSTART:20201101T060000
END:STANDARD
BEGIN:DAYLIGHT
TZOFFSETFROM:-0500
TZOFFSETTO:-0400
TZNAME:EDT
DTSTART:20210314T070000
END:DAYLIGHT
BEGIN:STANDARD
TZOFFSETFROM:-0400
TZOFFSETTO:-0500
TZNAME:EST
DTSTART:20211107T060000
END:STANDARD
BEGIN:DAYLIGHT
TZOFFSETFROM:-0500
TZOFFSETTO:-0400
TZNAME:EDT
DTSTART:20220313T070000
END:DAYLIGHT
BEGIN:STANDARD
TZOFFSETFROM:-0400
TZOFFSETTO:-0500
TZNAME:EST
DTSTART:20221106T060000
END:STANDARD
END:VTIMEZONE
BEGIN:VEVENT
DTSTART;TZID=America/New_York:20211215T130000
DTEND;TZID=America/New_York:20211215T143000
DTSTAMP:20260421T043129
CREATED:20220328T190108Z
LAST-MODIFIED:20220831T183911Z
UID:10000022-1639573200-1639578600@usteducation.org
SUMMARY:W222: Stop Creeping Out Your Members: How to Connect in a New Age of Privacy Expectations (and Worthless Open Rates)
DESCRIPTION:Perceptions around digital privacy have evolved\, and consumers are responding; already\, 96 percent of U.S. users are opting out of Apple’s permission-to-track option. Across industries and especially in member-based organizations\, consumers want (deserve!) a more human\, personal experience with their intentional input.\nUntil recently\, messaging has been based mostly on what consumers do (their behaviors\, purchases and internet browsing)\, gathered through 1st\, 2nd and 3rd party data sources. From there\, a lot of guesswork happens: if they’re at this stage in their career\, they want this\, if they visited this web page\, they probably want that. This segmentation is an estimation at best and makes your organization seem like a Peeping Tom at worst.\nInstead of following your members\, tracking what they do and then guessing what they want\, what if you just asked them in real time and acted on it? That’s what American Academy of Pediatrics (AAP) did to better engage their members\, and it laid the groundwork for a whole new engagement strategy. Within just a few months\, the AAP put together multiple campaigns that increased recruitment numbers\, gathered valuable information\, and inspired a list of future campaigns to further strengthen their member interactions and communications.\nJoin us to explore how member attitudes\, needs and wants are changing… and why your email open rate metric can be tossed in the trash for more meaningful measures of engagement.\n \nLEARNING OBJECTIVES\n\n\n Explore how changes in perception of privacy are affecting associations.\n Learn why zero-party data is becoming more important than other data sources in engaging individuals throughout the member lifecycle.\n Analyze how your organization’s communications strategy can be reshaped to align with changes in members’ perception of privacy and communication preferences.\n\n\n 
URL:https://usteducation.org/event/w222-stop-creeping-out-your-members-how-to-connect-in-a-new-age-of-privacy-expectations-and-worthless-open-rates/
LOCATION:Group Internet-Based
CATEGORIES:ASSOCIATIONS & NONPROFITS
ATTACH;FMTTYPE=image/png:https://usteducation.org/wp-content/uploads/2022/09/BACKLOG-FOR-RELAUNCH-Eli-website-1200X600-px-2.png
END:VEVENT
END:VCALENDAR