BEGIN:VCALENDAR
VERSION:2.0
PRODID:-//UST Education - ECPv6.15.20//NONSGML v1.0//EN
CALSCALE:GREGORIAN
METHOD:PUBLISH
X-ORIGINAL-URL:https://usteducation.org
X-WR-CALDESC:Events for UST Education
REFRESH-INTERVAL;VALUE=DURATION:PT1H
X-Robots-Tag:noindex
X-PUBLISHED-TTL:PT1H
BEGIN:VTIMEZONE
TZID:America/New_York
BEGIN:DAYLIGHT
TZOFFSETFROM:-0500
TZOFFSETTO:-0400
TZNAME:EDT
DTSTART:20240310T070000
END:DAYLIGHT
BEGIN:STANDARD
TZOFFSETFROM:-0400
TZOFFSETTO:-0500
TZNAME:EST
DTSTART:20241103T060000
END:STANDARD
BEGIN:DAYLIGHT
TZOFFSETFROM:-0500
TZOFFSETTO:-0400
TZNAME:EDT
DTSTART:20250309T070000
END:DAYLIGHT
BEGIN:STANDARD
TZOFFSETFROM:-0400
TZOFFSETTO:-0500
TZNAME:EST
DTSTART:20251102T060000
END:STANDARD
BEGIN:DAYLIGHT
TZOFFSETFROM:-0500
TZOFFSETTO:-0400
TZNAME:EDT
DTSTART:20260308T070000
END:DAYLIGHT
BEGIN:STANDARD
TZOFFSETFROM:-0400
TZOFFSETTO:-0500
TZNAME:EST
DTSTART:20261101T060000
END:STANDARD
END:VTIMEZONE
BEGIN:VEVENT
DTSTART;TZID=America/New_York:20251001T110000
DTEND;TZID=America/New_York:20251001T120000
DTSTAMP:20260419T230642
CREATED:20250411T063040Z
LAST-MODIFIED:20251001T203848Z
UID:10000696-1759316400-1759320000@usteducation.org
SUMMARY:The Power of PsyCap
DESCRIPTION:Course Description:  \nDiscover how Psychological Capital (PsyCap)—hope\, efficacy\, resilience\, and optimism—can transform the volunteer experience and strengthen organizational impact. Grounded in research\, this session explores how cultivating PsyCap among volunteers leads to higher satisfaction\, deeper engagement\, and stronger retention. Attendees will gain actionable insights and practical strategies to foster a thriving volunteer culture\, backed by data and real-world application. \n  \nLearning Objectives: \nDefine the core components of Psychological Capital (PsyCap) and explain their relevance to volunteer motivation\, satisfaction\, and retention. \nIdentify practical tools for fostering a strengths-based volunteer culture that builds resilience and optimism across teams. \nEvaluate the impact of PsyCap-focused engagement efforts on volunteer performance\, satisfaction\, and organizational alignment. \nDesign volunteer engagement initiatives that integrate PsyCap principles to support long-term organizational goals. \n  \nTo Watch this Webinar on the Media Library CLICK HERE!
URL:https://usteducation.org/event/the-power-of-psycap/
LOCATION:zoom.us/j/96088380653
CATEGORIES:ASSOCIATIONS & NONPROFITS,Marketing/Member Engagement
ATTACH;FMTTYPE=image/png:https://usteducation.org/wp-content/uploads/2025/04/Nicole25-1.png
ORGANIZER;CN="Nicole Rudner%2C CAE%2C DBA":MAILTO:nrudner@terralex.org
END:VEVENT
END:VCALENDAR