BEGIN:VCALENDAR
VERSION:2.0
PRODID:-//UST Education - ECPv6.15.20//NONSGML v1.0//EN
CALSCALE:GREGORIAN
METHOD:PUBLISH
X-WR-CALNAME:UST Education
X-ORIGINAL-URL:https://usteducation.org
X-WR-CALDESC:Events for UST Education
REFRESH-INTERVAL;VALUE=DURATION:PT1H
X-Robots-Tag:noindex
X-PUBLISHED-TTL:PT1H
BEGIN:VTIMEZONE
TZID:America/New_York
BEGIN:DAYLIGHT
TZOFFSETFROM:-0500
TZOFFSETTO:-0400
TZNAME:EDT
DTSTART:20240310T070000
END:DAYLIGHT
BEGIN:STANDARD
TZOFFSETFROM:-0400
TZOFFSETTO:-0500
TZNAME:EST
DTSTART:20241103T060000
END:STANDARD
BEGIN:DAYLIGHT
TZOFFSETFROM:-0500
TZOFFSETTO:-0400
TZNAME:EDT
DTSTART:20250309T070000
END:DAYLIGHT
BEGIN:STANDARD
TZOFFSETFROM:-0400
TZOFFSETTO:-0500
TZNAME:EST
DTSTART:20251102T060000
END:STANDARD
BEGIN:DAYLIGHT
TZOFFSETFROM:-0500
TZOFFSETTO:-0400
TZNAME:EDT
DTSTART:20260308T070000
END:DAYLIGHT
BEGIN:STANDARD
TZOFFSETFROM:-0400
TZOFFSETTO:-0500
TZNAME:EST
DTSTART:20261101T060000
END:STANDARD
END:VTIMEZONE
BEGIN:VEVENT
DTSTART;TZID=America/New_York:20250528T110000
DTEND;TZID=America/New_York:20250528T120000
DTSTAMP:20260421T052138
CREATED:20250509T155741Z
LAST-MODIFIED:20250528T202425Z
UID:10000713-1748430000-1748433600@usteducation.org
SUMMARY:Unmasking AMS Success: Post-Launch Strategies That Stick
DESCRIPTION:Course Description:  \nAMS adoption isn’t a solo act—it’s a team effort. The real work starts after launch\, and success only comes when the system is fully adopted. Too often\, organizations fall into post-launch traps like shadow systems\, disengaged users\, or missed upgrades. But it doesn’t have to be that way. \nJoin Rebecca Achurch\, CEO of Achurch Consulting\, and special guest Simone Bielsker of American Staffing Association\, to learn how to maintain momentum\, empower staff\, and build a team of internal champions. Our expert panel will share collaborative strategies to keep your AMS evolving with your organization—not working against it. No matter how long it’s been since launch\, this session will help you get more value from your system and your team. \n  \nLearning Objectives: \nFoster a culture of continuous learning and shared ownership \nDevelop a team of internal champions \nApply document creation strategies that your team actually uses \nIdentify and eliminate shadow systems before they take root \nImplement tactics to boost user engagement with feature rollouts and upgrades \n  \n\n\nTo Watch this Webinar on the Media Library CLICK HERE! \n\n\n 
URL:https://usteducation.org/event/unmasking-ams-success-developing-post-launch/
LOCATION:zoom.us/j/99182018535
CATEGORIES:ASSOCIATIONS & NONPROFITS,Business Strategy
ATTACH;FMTTYPE=image/png:https://usteducation.org/wp-content/uploads/2025/05/RebeccaSimoneMonica25.png
ORGANIZER;CN="Rebecca Achurch":MAILTO:rebecca@achurchconsulting.com
END:VEVENT
END:VCALENDAR