BEGIN:VCALENDAR
VERSION:2.0
PRODID:-//UST Education - ECPv6.15.20//NONSGML v1.0//EN
CALSCALE:GREGORIAN
METHOD:PUBLISH
X-ORIGINAL-URL:https://usteducation.org
X-WR-CALDESC:Events for UST Education
REFRESH-INTERVAL;VALUE=DURATION:PT1H
X-Robots-Tag:noindex
X-PUBLISHED-TTL:PT1H
BEGIN:VTIMEZONE
TZID:America/New_York
BEGIN:DAYLIGHT
TZOFFSETFROM:-0500
TZOFFSETTO:-0400
TZNAME:EDT
DTSTART:20200308T070000
END:DAYLIGHT
BEGIN:STANDARD
TZOFFSETFROM:-0400
TZOFFSETTO:-0500
TZNAME:EST
DTSTART:20201101T060000
END:STANDARD
BEGIN:DAYLIGHT
TZOFFSETFROM:-0500
TZOFFSETTO:-0400
TZNAME:EDT
DTSTART:20210314T070000
END:DAYLIGHT
BEGIN:STANDARD
TZOFFSETFROM:-0400
TZOFFSETTO:-0500
TZNAME:EST
DTSTART:20211107T060000
END:STANDARD
BEGIN:DAYLIGHT
TZOFFSETFROM:-0500
TZOFFSETTO:-0400
TZNAME:EDT
DTSTART:20220313T070000
END:DAYLIGHT
BEGIN:STANDARD
TZOFFSETFROM:-0400
TZOFFSETTO:-0500
TZNAME:EST
DTSTART:20221106T060000
END:STANDARD
BEGIN:DAYLIGHT
TZOFFSETFROM:-0500
TZOFFSETTO:-0400
TZNAME:EDT
DTSTART:20230312T070000
END:DAYLIGHT
BEGIN:STANDARD
TZOFFSETFROM:-0400
TZOFFSETTO:-0500
TZNAME:EST
DTSTART:20231105T060000
END:STANDARD
BEGIN:DAYLIGHT
TZOFFSETFROM:-0500
TZOFFSETTO:-0400
TZNAME:EDT
DTSTART:20240310T070000
END:DAYLIGHT
BEGIN:STANDARD
TZOFFSETFROM:-0400
TZOFFSETTO:-0500
TZNAME:EST
DTSTART:20241103T060000
END:STANDARD
BEGIN:DAYLIGHT
TZOFFSETFROM:-0500
TZOFFSETTO:-0400
TZNAME:EDT
DTSTART:20250309T070000
END:DAYLIGHT
BEGIN:STANDARD
TZOFFSETFROM:-0400
TZOFFSETTO:-0500
TZNAME:EST
DTSTART:20251102T060000
END:STANDARD
BEGIN:DAYLIGHT
TZOFFSETFROM:-0500
TZOFFSETTO:-0400
TZNAME:EDT
DTSTART:20260308T070000
END:DAYLIGHT
BEGIN:STANDARD
TZOFFSETFROM:-0400
TZOFFSETTO:-0500
TZNAME:EST
DTSTART:20261101T060000
END:STANDARD
END:VTIMEZONE
BEGIN:VEVENT
DTSTART;TZID=America/New_York:20250923T110000
DTEND;TZID=America/New_York:20250923T120000
DTSTAMP:20260421T073214
CREATED:20250731T123351Z
LAST-MODIFIED:20250923T200041Z
UID:10000759-1758625200-1758628800@usteducation.org
SUMMARY:Modern Governance in Action: Strengthening Boards for Today’s Challenges
DESCRIPTION:Course Description:  \nStrong board governance is the foundation of nonprofit and association success—but it must evolve to meet current needs. This webinar will explore key governance practices that support transparency\, accountability\, and strategic alignment. We’ll examine core topics such as board size\, term limits\, and the importance of regular Bylaws review\, as well as effective board member training and orientation. \nIn addition\, we’ll address emerging issues facing boards today\, including the implications of artificial intelligence on governance responsibilities and oversight\, and how associations are approaching diversity\, equity\, and inclusion (DEI) commitments in a shifting cultural and political landscape. Participants will leave with a practical understanding of how to strengthen board structures while navigating new and complex challenges. \n  \nLearning Objectives: \nAnalyze the impact of board size and term limits on governance effectiveness and decision-making\, and identify strategies for optimizing these factors. \nDevelop a framework for conducting regular Bylaws reviews to align with organizational needs and evolving legal and practical standards. \nUnderstand the importance of board member training\, orientation\, and the partnership between the board and the executive director in creating a cohesive leadership team. \n\nEvaluate emerging governance considerations related to artificial intelligence and DEI\, and formulate strategies for board engagement and oversight in these evolving areas.\n \n\nTo Watch this Webinar on the Media Library CLICK HERE! \n\n\n 
URL:https://usteducation.org/event/modern-governance-in-action-strengthening-boards-for-todays-challenges/
LOCATION:zoom.us/j/98629079760
CATEGORIES:ASSOCIATIONS & NONPROFITS,B2B/B2G,Business Strategy,Marketing/Member Engagement
ATTACH;FMTTYPE=image/png:https://usteducation.org/wp-content/uploads/2025/07/Rich25.png
END:VEVENT
BEGIN:VEVENT
DTSTART;TZID=America/New_York:20221025T130000
DTEND;TZID=America/New_York:20221025T143000
DTSTAMP:20260421T073214
CREATED:20220829T172003Z
LAST-MODIFIED:20221027T182335Z
UID:10000170-1666702800-1666708200@usteducation.org
SUMMARY:W320: Association/Nonprofit Board of Directors: Governance\, Risk Management & Training
DESCRIPTION:GKG Law’s Rich Bar will be the instructor for a U.S. Transactions Corp. webinar on October 25\, 2022. Rich’s webinar\, Association/Nonprofit Board of Directors: Governance\, Risk Management & Training\, is targeted to CEOs\, COOs and CFOs. Attendees will learn how to better equip board members and directors for success in their roles; how to ensure the board continuously works to promote and obtain the mission of the organization; fiduciary duty considerations and challenges; and appropriate conflict of interest management. Further course description can be found below. \nOne of the most important components of an association CEO/COO/CFO’s demanding role involves serving as a day-to-day conduit to the board. Boards comprised solely of volunteers sometimes don’t receive the comprehensive training needed to perform successfully. Too often\, volunteer board directors don’t understand the full spectrum of fiduciary\, contractual and legal duties associated with their role\, or the risks and responsibilities involved when a perceived or actual conflict of interest arises. As a CEO/COO/CFO\, what steps can be taken to avoid these potentially critical issues? \n  \nLearning Objectives \n  \n\nLearn how to better equip board members for success in their roles through training and communication.\nLearn how to educate volunteer board members to understand their fiduciary\, contractual and legal duties associated with their role\nUnderstand what steps can be taken as a C-Level executive to avoid potential critical issues around board governance.
URL:https://usteducation.org/event/w320-association-nonprofit-board-of-directors-governance-risk-management-training/
LOCATION:https://zoom.us/j/93180591922
CATEGORIES:ASSOCIATIONS & NONPROFITS
ATTACH;FMTTYPE=image/png:https://usteducation.org/wp-content/uploads/2022/08/RECENT-websiteemail-Graphics-1200X600-px-6-1.png
END:VEVENT
BEGIN:VEVENT
DTSTART;TZID=America/New_York:20220526T110000
DTEND;TZID=America/New_York:20220526T123000
DTSTAMP:20260421T073214
CREATED:20220518T125441Z
LAST-MODIFIED:20240531T205533Z
UID:10000087-1653562800-1653568200@usteducation.org
SUMMARY:Compliance & Risk Management Training: Key Considerations
DESCRIPTION:View Recorded Webinar \nListen to the Podcast \n\n\n\nGKG Law’s Rich Bar will be the instructor for a UST Ed webinar on May 26\, 2022. Rich’s webinar\, Association/Nonprofit Board of Directors: Governance\, Risk Management & Training\, is targeted to CEOs\, COOs and CFOs. Attendees will learn how to better equip board members and directors for success in their roles; how to ensure the board continuously works to promote and obtain the mission of the organization; fiduciary duty considerations and challenges; and appropriate conflict of interest management. Further course description can be found below. \n  \nOne of the most important components of an association CEO/COO/CFO’s demanding role involves serving as a day-to-day conduit to the board. Boards comprised solely of volunteers sometimes don’t receive the comprehensive training needed to perform successfully. Too often\, volunteer board directors don’t understand the full spectrum of fiduciary\, contractual and legal duties associated with their role\, or the risks and responsibilities involved when a perceived or actual conflict of interest arises. As a CEO/COO/CFO\, what steps can be taken to avoid these potentially critical issues? \n\n\n  \n\n\n\n\nLEARNING OBJECTIVES\n\n\nLearn how to better equip board members for success in their roles through training and communication.\nLearn how to educate volunteer board members to understand their fiduciary\, contractual and legal duties associated with their role\nUnderstand what steps can be taken as a C-Level executive to avoid potential critical issues around board governance.
URL:https://usteducation.org/event/compliance-risk-management-training-key-considerations/
LOCATION:Group Internet-Based
CATEGORIES:Accounting,ASSOCIATIONS & NONPROFITS,Business Strategy,Culture/Communication,Finance
ATTACH;FMTTYPE=image/png:https://usteducation.org/wp-content/uploads/2022/05/W286website.png
END:VEVENT
BEGIN:VEVENT
DTSTART;TZID=America/New_York:20211027T110000
DTEND;TZID=America/New_York:20211027T123000
DTSTAMP:20260421T073214
CREATED:20220328T190356Z
LAST-MODIFIED:20220713T033339Z
UID:10000057-1635332400-1635337800@usteducation.org
SUMMARY:W198: Association/Nonprofit Board of Directors: Governance\, Risk Management & Training
DESCRIPTION:GKG Law’s Rich Bar will be the instructor for a U.S. Transactions Corp. webinar on Sept 8\, 2021. Rich’s webinar\, Association/Nonprofit Board of Directors: Governance\, Risk Management & Training\, is targeted to CEOs\, COOs and CFOs. Attendees will learn how to better equip board members and directors for success in their roles; how to ensure the board continuously works to promote and obtain the mission of the organization; fiduciary duty considerations and challenges; and appropriate conflict of interest management. Further course description can be found below. \nOne of the most important components of an association CEO/COO/CFO’s demanding role involves serving as a day-to-day conduit to the board. Boards comprised solely of volunteers sometimes don’t receive the comprehensive training needed to perform successfully. Too often\, volunteer board directors don’t understand the full spectrum of fiduciary\, contractual and legal duties associated with their role\, or the risks and responsibilities involved when a perceived or actual conflict of interest arises. As a CEO/COO/CFO\, what steps can be taken to avoid these potentially critical issues? \n\n\n\nLEARNING OBJECTIVES \n\n\n\nLearn how to better equip board members for success in their roles through training and communication.\nLearn how to educate volunteer board members to understand their fiduciary\, contractual and legal duties associated with their role\nUnderstand what steps can be taken as a C-Level executive to avoid potential critical issues around board governance.
URL:https://usteducation.org/event/w198-association-nonprofit-board-of-directors-governance-risk-management-training/
LOCATION:Group Internet-Based
CATEGORIES:ASSOCIATIONS & NONPROFITS
ATTACH;FMTTYPE=image/png:https://usteducation.org/wp-content/uploads/2022/03/BACKLOG-FOR-RELAUNCH-Eli-website-1200X600-px-22.png
END:VEVENT
END:VCALENDAR