BEGIN:VCALENDAR
VERSION:2.0
PRODID:-//UST Education - ECPv6.15.20//NONSGML v1.0//EN
CALSCALE:GREGORIAN
METHOD:PUBLISH
X-ORIGINAL-URL:https://usteducation.org
X-WR-CALDESC:Events for UST Education
REFRESH-INTERVAL;VALUE=DURATION:PT1H
X-Robots-Tag:noindex
X-PUBLISHED-TTL:PT1H
BEGIN:VTIMEZONE
TZID:America/New_York
BEGIN:DAYLIGHT
TZOFFSETFROM:-0500
TZOFFSETTO:-0400
TZNAME:EDT
DTSTART:20200308T070000
END:DAYLIGHT
BEGIN:STANDARD
TZOFFSETFROM:-0400
TZOFFSETTO:-0500
TZNAME:EST
DTSTART:20201101T060000
END:STANDARD
BEGIN:DAYLIGHT
TZOFFSETFROM:-0500
TZOFFSETTO:-0400
TZNAME:EDT
DTSTART:20210314T070000
END:DAYLIGHT
BEGIN:STANDARD
TZOFFSETFROM:-0400
TZOFFSETTO:-0500
TZNAME:EST
DTSTART:20211107T060000
END:STANDARD
BEGIN:DAYLIGHT
TZOFFSETFROM:-0500
TZOFFSETTO:-0400
TZNAME:EDT
DTSTART:20220313T070000
END:DAYLIGHT
BEGIN:STANDARD
TZOFFSETFROM:-0400
TZOFFSETTO:-0500
TZNAME:EST
DTSTART:20221106T060000
END:STANDARD
END:VTIMEZONE
BEGIN:VEVENT
DTSTART;TZID=America/New_York:20211208T130000
DTEND;TZID=America/New_York:20211208T143000
DTSTAMP:20260421T041820
CREATED:20220328T190307Z
LAST-MODIFIED:20231013T173903Z
UID:10000041-1638968400-1638973800@usteducation.org
SUMMARY:Cyber Insurance Market: Issues and Insurance Implications
DESCRIPTION:The cyber insurance market has changed drastically in just the last five months\, and you need to know how to position your organization for market increases and corrections. This webinar will cover the must-knows of IT cyber insurance woes and how best to mitigate them. \nHear lessons learned and best practices from a panel of experts that includes a CFO\, CIO\, Insurance Broker and Carrier. \n\n\nLEARNING OBJECTIVES \n\n\n\nUnderstand the reasons why your organization needs cyber insurance.\nUnderstand how much coverage you may need based on my budget size\nLearn how to file and manage a cyber insurance claim.\nDiscover tools and resources to protect your organization from cyber attacks.
URL:https://usteducation.org/event/cyber-insurance-market-issues-and-insurance-implications/
LOCATION:Group Internet-Based
CATEGORIES:ASSOCIATIONS & NONPROFITS
ATTACH;FMTTYPE=image/png:https://usteducation.org/wp-content/uploads/2022/03/BACKLOG-FOR-RELAUNCH-Eli-website-1200X600-px-12.png
END:VEVENT
END:VCALENDAR