BEGIN:VCALENDAR
VERSION:2.0
PRODID:-//UST Education - ECPv6.15.20//NONSGML v1.0//EN
CALSCALE:GREGORIAN
METHOD:PUBLISH
X-ORIGINAL-URL:https://usteducation.org
X-WR-CALDESC:Events for UST Education
REFRESH-INTERVAL;VALUE=DURATION:PT1H
X-Robots-Tag:noindex
X-PUBLISHED-TTL:PT1H
BEGIN:VTIMEZONE
TZID:America/New_York
BEGIN:DAYLIGHT
TZOFFSETFROM:-0500
TZOFFSETTO:-0400
TZNAME:EDT
DTSTART:20250309T070000
END:DAYLIGHT
BEGIN:STANDARD
TZOFFSETFROM:-0400
TZOFFSETTO:-0500
TZNAME:EST
DTSTART:20251102T060000
END:STANDARD
BEGIN:DAYLIGHT
TZOFFSETFROM:-0500
TZOFFSETTO:-0400
TZNAME:EDT
DTSTART:20260308T070000
END:DAYLIGHT
BEGIN:STANDARD
TZOFFSETFROM:-0400
TZOFFSETTO:-0500
TZNAME:EST
DTSTART:20261101T060000
END:STANDARD
BEGIN:DAYLIGHT
TZOFFSETFROM:-0500
TZOFFSETTO:-0400
TZNAME:EDT
DTSTART:20270314T070000
END:DAYLIGHT
BEGIN:STANDARD
TZOFFSETFROM:-0400
TZOFFSETTO:-0500
TZNAME:EST
DTSTART:20271107T060000
END:STANDARD
END:VTIMEZONE
BEGIN:VEVENT
DTSTART;TZID=America/New_York:20260505T130000
DTEND;TZID=America/New_York:20260505T140000
DTSTAMP:20260420T235415
CREATED:20260116T150653Z
LAST-MODIFIED:20260202T170131Z
UID:10000857-1777986000-1777989600@usteducation.org
SUMMARY:Turn Your Association Into a Growth Platform for an Entire Profession
DESCRIPTION:Course Description:  \nAssociation executives must rethink what business they are really in at a time when LinkedIn\, AI\, peer networks\, and on-demand platforms like YouTube have become their members’ default teachers. This session makes the case that associations no longer compete on content or events\, they compete on their ability to cultivate real-world capability\, professional judgment\, and trusted communities of practice. Participants will explore how learning is already happening in the flow of work\, why traditional program models are losing gravity\, and how forward-looking associations are redesigning themselves as living learning ecosystems that drive relevance\, loyalty\, and long-term impact. Executives will leave with a clear framework for identifying their association’s most critical practice gaps and a concrete experiment they can launch to begin shifting from episodic programming to continuous professional growth. \n  \nLearning Objectives: \nDiagnose the real competitive threat to your association \nDistinguish between a “program provider” and a “learning ecosystem” \nReframe member engagement as a learning-in-the-flow-of-work problem \nEnvision a next-generation role for your association
URL:https://usteducation.org/event/turn-your-association-into-a-growth-platform-for-an-entire-profession-free-cpe-credit-free-cae-credit/
LOCATION:zoom.us/j/93284644334
ATTACH;FMTTYPE=image/png:https://usteducation.org/wp-content/uploads/2026/01/Chris26.png
ORGANIZER;CN="Chris Huizenga":MAILTO:chris@deskightlearning.com
END:VEVENT
END:VCALENDAR